BEGIN:VCALENDAR
VERSION:2.0
PRODID:-//49th State Street Rodders - ECPv6.15.20//NONSGML v1.0//EN
CALSCALE:GREGORIAN
METHOD:PUBLISH
X-ORIGINAL-URL:http://statestreetrodders.com
X-WR-CALDESC:Events for 49th State Street Rodders
REFRESH-INTERVAL;VALUE=DURATION:PT1H
X-Robots-Tag:noindex
X-PUBLISHED-TTL:PT1H
BEGIN:VTIMEZONE
TZID:America/Anchorage
BEGIN:DAYLIGHT
TZOFFSETFROM:-0900
TZOFFSETTO:-0800
TZNAME:AKDT
DTSTART:20230312T110000
END:DAYLIGHT
BEGIN:STANDARD
TZOFFSETFROM:-0800
TZOFFSETTO:-0900
TZNAME:AKST
DTSTART:20231105T100000
END:STANDARD
BEGIN:DAYLIGHT
TZOFFSETFROM:-0900
TZOFFSETTO:-0800
TZNAME:AKDT
DTSTART:20240310T110000
END:DAYLIGHT
BEGIN:STANDARD
TZOFFSETFROM:-0800
TZOFFSETTO:-0900
TZNAME:AKST
DTSTART:20241103T100000
END:STANDARD
BEGIN:DAYLIGHT
TZOFFSETFROM:-0900
TZOFFSETTO:-0800
TZNAME:AKDT
DTSTART:20250309T110000
END:DAYLIGHT
BEGIN:STANDARD
TZOFFSETFROM:-0800
TZOFFSETTO:-0900
TZNAME:AKST
DTSTART:20251102T100000
END:STANDARD
END:VTIMEZONE
BEGIN:VEVENT
DTSTART;TZID=America/Anchorage:20240502T110000
DTEND;TZID=America/Anchorage:20240502T200000
DTSTAMP:20260423T033343
CREATED:20240120T030115Z
LAST-MODIFIED:20240401T201607Z
UID:2508-1714647600-1714680000@statestreetrodders.com
SUMMARY:Staging for MTA Valley Chrome & Wheel Show & Shine
DESCRIPTION:Well I am excited to say it is that time of year again for summer car shows and I am happy to announce that our first car show of the season courtesy of the City of Palmer and the Palmer City Council will be our annual “Valley Chrome and Wheel Car Show” May 3rd\, 4th\, and 5th at the MTA Event Center and Ice Rink at 1317 S. Kerry Weiland Way\, across from Palmer Middle School in downtown Palmer.  You can pre-register by DM or e-mail through our website 49thstatestreetrodders.org.  Staging will begin Thursday May 2nd from 11:00am to 8:00pm.  Show will start Friday May 3rd at 4:00pm to 8:00pm\, Saturday May 4th 10:00am to 8:00pm and Sunday May 5th from 10:00am to 4:00pm.  There will be 12 class trophies and a People’s Choice and Mayors Choice Award.  At the moment we have Sea Garden Food Truck scheduled to be at the show.  As Always\, our shows are free to attend and free to enter but since we are inside we have a limited amount of space so pre-register early. \n\n\n\nSo\, come on out and spend a beautiful weekend checking out the car show and all the great things that are happening in Palmer that weekend.
URL:http://statestreetrodders.com/event/mta-valley-chrome-wheel-show-shine/
END:VEVENT
BEGIN:VEVENT
DTSTART;TZID=America/Anchorage:20240503T160000
DTEND;TZID=America/Anchorage:20240503T200000
DTSTAMP:20260423T033343
CREATED:20240120T031418Z
LAST-MODIFIED:20240401T200039Z
UID:2510-1714752000-1714766400@statestreetrodders.com
SUMMARY:MTA Valley Chrome & Wheel Show & Shine Matinee
DESCRIPTION:Matinee today from 4:00pm to 8:00 pm. \n\n\n\nWell I am excited to say it is that time of year again for summer car shows and I am happy to announce that our first car show of the season courtesy of the City of Palmer and the Palmer City Council will be our annual “Valley Chrome and Wheel Car Show” May 3rd\, 4th\, and 5th at the MTA Event Center and Ice Rink at 1317 S. Kerry Weiland Way\, across from Palmer Middle School in downtown Palmer.  You can pre-register by DM or e-mail through our website 49thstatestreetrodders.org.  Staging will begin Thursday May 2nd from 11:00am to 8:00pm.  Show will start Friday May 3rd at 4:00pm to 8:00pm\, Saturday May 4th 10:00am to 8:00pm and Sunday May 5th from 10:00am to 4:00pm.  There will be 12 class trophies and a People’s Choice and Mayors Choice Award.  At the moment we have Sea Garden Food Truck scheduled to be at the show.  As Always\, our shows are free to attend and free to enter but since we are inside we have a limited amount of space so pre-register early. \n\n\n\nSo\, come on out and spend a beautiful weekend checking out the car show and all the great things that are happening in Palmer that weekend.
URL:http://statestreetrodders.com/event/mta-valley-chrome-wheel-show-shine-2/
END:VEVENT
BEGIN:VEVENT
DTSTART;TZID=America/Anchorage:20240504T100000
DTEND;TZID=America/Anchorage:20240504T200000
DTSTAMP:20260423T033343
CREATED:20240120T032153Z
LAST-MODIFIED:20240422T231046Z
UID:2514-1714816800-1714852800@statestreetrodders.com
SUMMARY:MTA Valley Chrome & Wheel Show & Shine
DESCRIPTION:Well I am excited to say it is that time of year again for summer car shows and I am happy to announce that our first car show of the season courtesy of the City of Palmer and the Palmer City Council will be our annual “Valley Chrome and Wheel Car Show” May 3rd\, 4th\, and 5th at the MTA Event Center and Ice Rink at 1317 S. Kerry Weiland Way\, across from Palmer Middle School in downtown Palmer.  You can pre-register by DM or e-mail through our website 49thstatestreetrodders.org.  Staging will begin Thursday May 2nd from 11:00am to 8:00pm.  Show will start Friday May 3rd at 4:00pm to 8:00pm\, Saturday May 4th 10:00am to 8:00pm and Sunday May 5th from 10:00am to 4:00pm.  There will be 12 class trophies and a People’s Choice and Mayors Choice Award.  At the moment we have Sea Garden Food Truck scheduled to be at the show on Saturday.  As Always\, our shows are free to attend and free to enter but since we are inside we have a limited amount of space so pre-register early. \n\n\n\nSo\, come on out and spend a beautiful weekend checking out the car show and all the great things that are happening in Palmer that weekend.
URL:http://statestreetrodders.com/event/mta-valley-chrome-wheel-show-shine-3/
END:VEVENT
BEGIN:VEVENT
DTSTART;TZID=America/Anchorage:20240505T100000
DTEND;TZID=America/Anchorage:20240505T160000
DTSTAMP:20260423T033343
CREATED:20240120T033622Z
LAST-MODIFIED:20240422T231211Z
UID:2519-1714903200-1714924800@statestreetrodders.com
SUMMARY:MTA Valley Chrome & Wheel Show & Shine
DESCRIPTION:Well I am excited to say it is that time of year again for summer car shows and I am happy to announce that our first car show of the season courtesy of the City of Palmer and the Palmer City Council will be our annual “Valley Chrome and Wheel Car Show” May 3rd\, 4th\, and 5th at the MTA Event Center and Ice Rink at 1317 S. Kerry Weiland Way\, across from Palmer Middle School in downtown Palmer.  You can pre-register by DM or e-mail through our website 49thstatestreetrodders.org.  Staging will begin Thursday May 2nd from 11:00am to 8:00pm.  Show will start Friday May 3rd at 4:00pm to 8:00pm\, Saturday May 4th 10:00am to 8:00pm and Sunday May 5th from 10:00am to 4:00pm.  There will be 12 class trophies and a People’s Choice and Mayors Choice Award.  At the moment we have Sea Garden Food Truck scheduled to be at the show on Saturday.  As Always\, our shows are free to attend and free to enter but since we are inside we have a limited amount of space so pre-register early. \n\n\n\nSo\, come on out and spend a beautiful weekend checking out the car show and all the great things that are happening in Palmer that weekend.
URL:http://statestreetrodders.com/event/mta-valley-chrome-wheel-show-shine-4/
END:VEVENT
BEGIN:VEVENT
DTSTART;TZID=America/Anchorage:20240511T120000
DTEND;TZID=America/Anchorage:20240511T160000
DTSTAMP:20260423T033343
CREATED:20240120T034458Z
LAST-MODIFIED:20240509T080839Z
UID:2522-1715428800-1715443200@statestreetrodders.com
SUMMARY:Klassic Kruz & Swap Meet
DESCRIPTION:The 49th State Street Rodders present “Klassic Kruz” Car Show and Swap Meet May 11th\, 2024.  Come Kruz with us. Meet up at the Fred Meyer store in Eagle River in the parking lot around 10:30 and cruise out to Alaska Raceway Park for the Car Show. Should be leaving Fred Meyer at around 11:00am. If you don’t want to cruise but just show your vehicle and attend the Swap Meet the car show starts at Noon and runs to 4:00pm. There is no food truck for the show at this time so pack a snack if you think you will get peckish. 49th State Street Rodders Car Shows admission and participation is free\, but you must be present to win a trophy. So\, start cleaning out those parts you want to get rid of and bring them to the Swap Meet. \n\n\n\nFred Meyer Eagle River 13401 Old Glenn Hwy. Eagle River\, AK. 99577. Alaska Raceway Park 5599 Raceway Palmer\, Alaska 99645 Mile 10.4 Old Glenn Hwy. 
URL:http://statestreetrodders.com/event/klassic-kruz-swap-meet-2/
END:VEVENT
BEGIN:VEVENT
DTSTART;TZID=America/Anchorage:20240518T110000
DTEND;TZID=America/Anchorage:20240518T150000
DTSTAMP:20260423T033343
CREATED:20240120T034928Z
LAST-MODIFIED:20240515T024315Z
UID:2524-1716030000-1716044400@statestreetrodders.com
SUMMARY:O'Reilly Auto Parts Car Show Wasilla\, AK
DESCRIPTION:Come on out for a day of fun at the O’Reilly Auto Parts Car Show in Wasilla\, Alaska. Saturday May 18th\, 2024 from 11am to 3pm.  231 E. Parks Hwy.  Alaska’s Best Gourmet Dogs Food Truck will be there\, O’Reilly has several trophies to award\, and some give always.  And of course\, there will be lots of beautiful cars to enjoy so come on by. The weather is predicted to be in the 50’s and slightly overcast.  Doesn’t look like any rain in sight\, so come on out and join us.  As always with all 49th State Street Rodders Car Shows admission and participation is free but you must be present to win\, and you must register your vehicle.  If you don’t want anyone to vote for your vehicle or you plan to leave early you must still register just don’t fill a vehicle ID to put in your window to give information to vote for you.  Hope to see you there.
URL:http://statestreetrodders.com/event/oreilly-auto-parts-car-show-wasilla-ak/
END:VEVENT
BEGIN:VEVENT
DTSTART;TZID=America/Anchorage:20240525T110000
DTEND;TZID=America/Anchorage:20240525T150000
DTSTAMP:20260423T033343
CREATED:20240120T035341Z
LAST-MODIFIED:20240521T183936Z
UID:2526-1716634800-1716649200@statestreetrodders.com
SUMMARY:Palmer O'Reilly Auto Parts Car Show
DESCRIPTION:This coming weekend is the 49th State Street Rodders annual car show at O’Reilly Auto Parts in Palmer. Come on out for a day of fun in Palmer\, Alaska. Saturday May 25th\, 2024\, from 11am to 3pm in downtown Palmer right along the Glenn Hwy. 401 Glacier View Ave. Alaska’s Best Gourmet Dogs and Sea Garden are the food trucks that are scheduled to be there.  O’Reilly has some trophies to award and there will be lots of beautiful cars to enjoy so come on by. As always with 49th State Street Rodders Car Shows admission and participation is free but you must register your vehicle even if you don’t want anyone to vote for you and you must be present to win.  Our shows are Rain or Shine\, and we are hoping the weather will be nice like this past weekend.  Hope to see you there.
URL:http://statestreetrodders.com/event/palmer-oreilly-auto-parts-car-show-2/
END:VEVENT
BEGIN:VEVENT
DTSTART;TZID=America/Anchorage:20240527T120000
DTEND;TZID=America/Anchorage:20240527T160000
DTSTAMP:20260423T033343
CREATED:20240422T230819Z
LAST-MODIFIED:20240524T194607Z
UID:2606-1716811200-1716825600@statestreetrodders.com
SUMMARY:Memorial Day Car Show Anchorage Corvette Association
DESCRIPTION:We finally have an update to our Memorial Day Car Show event on May 27\, 2024. It will be held at the Anchorage VA Medical Center at 1201 N Muldoon Rd. The event begins at 12 noon and ends at 4 pm. If folks would like to register their car for the car show\, Registration is from noon to 2:00pm for parking and staging. The registration ‘fee’ is 2 cans of non perishable food or 2 packages of non perishable items like diapers or tp. There will be activities for children\, food trucks\, and 1st\, 2nd and 3rd place People’s Choice awards. The Honor Flight will be there and there will be an Honor Guard ceremony as well as a booth for the Armed Services YMCA for food donations. The VA will also have a booth with information. We are hoping for NO RAIN and expecting a good turnout and a good time. \n\n\n\n \n\n\n\nWe hope to see you there.
URL:http://statestreetrodders.com/event/memorial-day-car-show-anchorage-corvette-association/
END:VEVENT
END:VCALENDAR