BEGIN:VCALENDAR
VERSION:2.0
PRODID:-//49th State Street Rodders - ECPv6.15.20//NONSGML v1.0//EN
CALSCALE:GREGORIAN
METHOD:PUBLISH
X-WR-CALNAME:49th State Street Rodders
X-ORIGINAL-URL:http://statestreetrodders.com
X-WR-CALDESC:Events for 49th State Street Rodders
REFRESH-INTERVAL;VALUE=DURATION:PT1H
X-Robots-Tag:noindex
X-PUBLISHED-TTL:PT1H
BEGIN:VTIMEZONE
TZID:America/Anchorage
BEGIN:DAYLIGHT
TZOFFSETFROM:-0900
TZOFFSETTO:-0800
TZNAME:AKDT
DTSTART:20200308T110000
END:DAYLIGHT
BEGIN:STANDARD
TZOFFSETFROM:-0800
TZOFFSETTO:-0900
TZNAME:AKST
DTSTART:20201101T100000
END:STANDARD
BEGIN:DAYLIGHT
TZOFFSETFROM:-0900
TZOFFSETTO:-0800
TZNAME:AKDT
DTSTART:20210314T110000
END:DAYLIGHT
BEGIN:STANDARD
TZOFFSETFROM:-0800
TZOFFSETTO:-0900
TZNAME:AKST
DTSTART:20211107T100000
END:STANDARD
BEGIN:DAYLIGHT
TZOFFSETFROM:-0900
TZOFFSETTO:-0800
TZNAME:AKDT
DTSTART:20220313T110000
END:DAYLIGHT
BEGIN:STANDARD
TZOFFSETFROM:-0800
TZOFFSETTO:-0900
TZNAME:AKST
DTSTART:20221106T100000
END:STANDARD
BEGIN:DAYLIGHT
TZOFFSETFROM:-0900
TZOFFSETTO:-0800
TZNAME:AKDT
DTSTART:20230312T110000
END:DAYLIGHT
BEGIN:STANDARD
TZOFFSETFROM:-0800
TZOFFSETTO:-0900
TZNAME:AKST
DTSTART:20231105T100000
END:STANDARD
END:VTIMEZONE
BEGIN:VEVENT
DTSTART;TZID=America/Anchorage:20220806T110000
DTEND;TZID=America/Anchorage:20220806T140000
DTSTAMP:20260422T140924
CREATED:20220218T043649Z
LAST-MODIFIED:20220806T043414Z
UID:1635-1659783600-1659794400@statestreetrodders.com
SUMMARY:Canceled Mike DeVine Annual State Farm Car Show
DESCRIPTION:Just heard from John Holcomb.  Someone from Mike DeVine’s State Farm called to tell him the car show tomorrow August 6th in Wasilla has been canceled because of rain. \n\n\n\nMike Devine annual car show 2200 E. Parks Hwy Ste A\, Wasilla Alaska.  State Farm Insurance.
URL:http://statestreetrodders.com/event/mike-devine-annual-state-farm-car-show/
END:VEVENT
BEGIN:VEVENT
DTSTART;TZID=America/Anchorage:20220730T080000
DTEND;TZID=America/Anchorage:20220730T170000
DTSTAMP:20260422T140925
CREATED:20220611T060719Z
LAST-MODIFIED:20220720T022354Z
UID:1810-1659168000-1659200400@statestreetrodders.com
SUMMARY:Freedom Family Festival
DESCRIPTION:VFW Auxiliary \n\n\n\n\n\n\n\nVFW Post 9785\, 10527 VFW Rd. Eagle River\, AK 99577
URL:http://statestreetrodders.com/event/freedom-family-festival/
END:VEVENT
BEGIN:VEVENT
DTSTART;TZID=America/Anchorage:20220723T110000
DTEND;TZID=America/Anchorage:20220723T150000
DTSTAMP:20260422T140925
CREATED:20220611T055532Z
LAST-MODIFIED:20220720T022015Z
UID:1805-1658574000-1658588400@statestreetrodders.com
SUMMARY:Sutton Alpine Historical Society "Valley Trash Show and Shine" Car Show
DESCRIPTION:Sutton Alpine Historical Society “Valley Trash Show & Shine” Car Show.  Besides the car show from 11:00 to 3:00pm there will be a desert auction and the Historical Society will be doing burgers and dogs as a fundraiser.  Both the auction and fundraiser are to raise money to maintain the buildings.  The location is 643 Daron Rd. Sutton\, AK 99645.  Chickaloon Mile 61.6 North Glenn Hwy.  As all of our events admission is free and it is free to show your vehicle.  Please come on out and help us help support the Historical Society.
URL:http://statestreetrodders.com/event/sutton-alpine-historical-society-valley-trash-show-and-shine-car-show/
END:VEVENT
BEGIN:VEVENT
DTSTART;TZID=America/Anchorage:20220715T170000
DTEND;TZID=America/Anchorage:20220715T200000
DTSTAMP:20260422T140925
CREATED:20220219T033107Z
LAST-MODIFIED:20220621T060453Z
UID:1676-1657904400-1657915200@statestreetrodders.com
SUMMARY:Bear Paw Festival Car Show
DESCRIPTION:The Bear Paw Car Show is Friday July 15\, 2022\, in Eagle River\, Alaska.  Staging starts at 5:00pm Car Show is from 6:00pm to 9:00pm on Business Blvd where it used to be held.
URL:http://statestreetrodders.com/event/bear-paw-festival-car-show-3/
END:VEVENT
BEGIN:VEVENT
DTSTART;TZID=America/Anchorage:20220710T120000
DTEND;TZID=America/Anchorage:20220710T160000
DTSTAMP:20260422T140925
CREATED:20220312T212701Z
LAST-MODIFIED:20220312T212702Z
UID:1737-1657454400-1657468800@statestreetrodders.com
SUMMARY:"Country Cutts Car Show"
DESCRIPTION:Come on out for a Sunday of fun in Downtown Palmer for the annual “Country Cutts Car Show”.  Stan will be giving away trophies and prizes and we hope to have food trucks out on the streets.  So come on out to 432 Alaska St. Downtown Palmer AK. 99645 from NOON to 4:00pm.  Sunday July 10th.
URL:http://statestreetrodders.com/event/country-cutts-car-show-2/
END:VEVENT
BEGIN:VEVENT
DTSTART;TZID=America/Anchorage:20220709T110000
DTEND;TZID=America/Anchorage:20220709T150000
DTSTAMP:20260422T140925
CREATED:20220521T022949Z
LAST-MODIFIED:20220521T070845Z
UID:1793-1657364400-1657378800@statestreetrodders.com
SUMMARY:Lowe's Wasilla Car Show
DESCRIPTION:Come on out to Wasilla and join the fun for the Lowe’s Car Show.  2561 E. Sun Mountain Ave.  Wasilla Alaska 99645.
URL:http://statestreetrodders.com/event/lowes-wasilla-car-show/
END:VEVENT
BEGIN:VEVENT
DTSTART;TZID=America/Anchorage:20220625T110000
DTEND;TZID=America/Anchorage:20220625T160000
DTSTAMP:20260422T140925
CREATED:20220312T204546Z
LAST-MODIFIED:20220620T204847Z
UID:1721-1656154800-1656172800@statestreetrodders.com
SUMMARY:"Art Keller Memorial Car Show" & Celebration of Life
DESCRIPTION:Art Keller was a long-time member of the “49th State Street Rodders” who passed away last fall.  His family requested a car show for this summer in memory of his long-time membership and work with the club.  The show will be from 11:00am to 4:00pm at the Eagle River VFW Post 9785 where he was an active and involved member.  There will be a simultaneous “Celebration of Life” at the Post during the show.  The Post is located at 10527 VFW Rd.  Eagle River\, AK 99577
URL:http://statestreetrodders.com/event/art-keller-memorial-car-show-celebration-of-life/
END:VEVENT
BEGIN:VEVENT
DTSTART;TZID=America/Anchorage:20220621T170000
DTEND;TZID=America/Anchorage:20220621T200000
DTSTAMP:20260422T140925
CREATED:20220219T032113Z
LAST-MODIFIED:20220219T032114Z
UID:1673-1655830800-1655841600@statestreetrodders.com
SUMMARY:"The Rumble" Solstice Car Show at Mirror Lake
DESCRIPTION:This is a Midnight Sun Street Rod Car Club Show. \n\n\n\nTuesday June 21\, 2022 from 5:00 to 8:00 pm at Mirror Lake
URL:http://statestreetrodders.com/event/the-rumble-solstice-car-show-at-mirror-lake/
END:VEVENT
BEGIN:VEVENT
DTSTART;TZID=America/Anchorage:20220618T100000
DTEND;TZID=America/Anchorage:20220618T150000
DTSTAMP:20260422T140925
CREATED:20220219T000726Z
LAST-MODIFIED:20220219T010556Z
UID:1638-1655546400-1655564400@statestreetrodders.com
SUMMARY:"VWs Reunion Show" Arctic Air-Cooled VWs
DESCRIPTION:Diamond Center Parking Lot
URL:http://statestreetrodders.com/event/vws-reunion-show-arctic-air-cooled-vws/
END:VEVENT
BEGIN:VEVENT
DTSTART;TZID=America/Anchorage:20220615T173000
DTEND;TZID=America/Anchorage:20220615T173000
DTSTAMP:20260422T140925
CREATED:20220305T020025Z
LAST-MODIFIED:20220305T020026Z
UID:1711-1655314200-1655314200@statestreetrodders.com
SUMMARY:Chuck Householder Memorial Run
DESCRIPTION:Chuck was a great supporter of the 49th State Street Rodders over the years and supervised many a car show in the Lowes Parking lot.  He will be missed by all.
URL:http://statestreetrodders.com/event/chuck-householder-memorial-run/
END:VEVENT
BEGIN:VEVENT
DTSTART;TZID=America/Anchorage:20220611T090000
DTEND;TZID=America/Anchorage:20220611T120000
DTSTAMP:20260422T140925
CREATED:20220219T012826Z
LAST-MODIFIED:20220219T012826Z
UID:1670-1654938000-1654948800@statestreetrodders.com
SUMMARY:Colony Days Parade
DESCRIPTION:Line up starts at 9:00 pm.  Parade starts at 11:00 am.
URL:http://statestreetrodders.com/event/colony-days-parade/
END:VEVENT
BEGIN:VEVENT
DTSTART;TZID=America/Anchorage:20220610T050000
DTEND;TZID=America/Anchorage:20220610T210000
DTSTAMP:20260422T140925
CREATED:20220219T011209Z
LAST-MODIFIED:20220219T031312Z
UID:1657-1654837200-1654894800@statestreetrodders.com
SUMMARY:Colony Days Car Show
DESCRIPTION:Downtown Palmer after the Friday Fling
URL:http://statestreetrodders.com/event/colony-days-car-show-2/
END:VEVENT
BEGIN:VEVENT
DTSTART;TZID=America/Anchorage:20220605T100000
DTEND;TZID=America/Anchorage:20220605T180000
DTSTAMP:20260422T140925
CREATED:20220218T041813Z
LAST-MODIFIED:20220218T041814Z
UID:1629-1654423200-1654452000@statestreetrodders.com
SUMMARY:REV Alaska Indoor Auto Show
DESCRIPTION:Welcome to the 5th annual Rev Alaska event featuring all types of Alaskan Motorsports. Cars\, trucks\, motorcycles\, snow machines\, boats\, and helicopters... \n\n\n\nIf it REVS\, we want to see it! \n\n\n\nRev Alaska is proudly sponsored by UHP Performance and Machine and will be held on Sunday\, June 5th at the Menard Sports Center in Wasilla. This amazing day will consist of an indoor business expo and auto show with onsite mud racing\, autocross\, and much more. Rev Alaska is rounded out by a Live DJ\, helicopter tours\, food trucks\, beer garden\, vendors\, and family fun activities. Enter your dream car into the auto show\, take a helicopter ride with Heli Alaska\, get muddy at the UTV races\, or jump in a performance vehicle for a ride-along at the autocross track! We even have LIVE demonstrations by local industry leaders! Bring your entire family for a fun-filled day of horsepower and craftsmanship. \n\n\n\nSee you at the show!
URL:http://statestreetrodders.com/event/rev-alaska-indoor-auto-show/
END:VEVENT
BEGIN:VEVENT
DTSTART;TZID=America/Anchorage:20220604T110000
DTEND;TZID=America/Anchorage:20220604T170000
DTSTAMP:20260422T140925
CREATED:20220303T234608Z
LAST-MODIFIED:20220303T234608Z
UID:1702-1654340400-1654362000@statestreetrodders.com
SUMMARY:Thunder Valley
DESCRIPTION:Come on out for a great day of fun at Alaska Raceway Park.  Plenty of food\, good music and beautiful rides.
URL:http://statestreetrodders.com/event/thunder-valley/
END:VEVENT
BEGIN:VEVENT
DTSTART;TZID=America/Anchorage:20220604T083000
DTEND;TZID=America/Anchorage:20220604T220000
DTSTAMP:20260422T140925
CREATED:20220218T043131Z
LAST-MODIFIED:20220219T002457Z
UID:1632-1654331400-1654380000@statestreetrodders.com
SUMMARY:ACA Dave's Memorial Food Run
DESCRIPTION:ACA’s Dave’s Memorial Food Run\, Anchorage\, Soldotna\, Seward\, Anchorage. Starts at Peggy’s for breakfast\, your place of choice for lunch in Soldotna\, Ray’s in Seward for dinner and back to Peggy’s for dessert at the end of the day. Breakfast will be at 8:30\, plan to hit the road by 10:00 a.m.\, lunch in Soldotna around 12:30 and dinner at Ray’s in Seward around 4:30\, back to Peggy’s for dessert prior to closing time at 10:00 p.m.  (At this time I’m not certain about the return stop at Peggy’s for pie due to their closing time has changed\, we will know more closer to June 4th).
URL:http://statestreetrodders.com/event/aca-daves-memorial-food-run/
END:VEVENT
BEGIN:VEVENT
DTSTART;TZID=America/Anchorage:20220530T120000
DTEND;TZID=America/Anchorage:20220530T160000
DTSTAMP:20260422T140925
CREATED:20220218T041033Z
LAST-MODIFIED:20220218T041414Z
UID:1625-1653912000-1653926400@statestreetrodders.com
SUMMARY:Anchorage Corvette Association Memorial Day Car Show
DESCRIPTION:Come on out and enjoy the day seeing all these beautiful Corvettes.  Memorial Day\, Monday May 30\, 2022 from noon to 4:00 pm at Northway Mall in Anchorage\, Alaska.
URL:http://statestreetrodders.com/event/anchorage-corvette-association-memorial-day-car-show/
END:VEVENT
BEGIN:VEVENT
DTSTART;TZID=America/Anchorage:20220528T110000
DTEND;TZID=America/Anchorage:20220528T150000
DTSTAMP:20260422T140925
CREATED:20220311T000959Z
LAST-MODIFIED:20220518T201448Z
UID:1716-1653735600-1653750000@statestreetrodders.com
SUMMARY:O'Reilly Auto Parts Wasilla Car Show
DESCRIPTION:Come on out for a great day of fun from 11:00am to 3:00pm and look at some beautiful cars at the Wasilla O’Reilly Auto Parts Store. 231 E. Parks Hwy. Wasilla\, AK 99654.  There will be food trucks and trophies given out for the favorite choice of attendees.  As always with 49th State Street Rodders Car Shows admission and participation is free.
URL:http://statestreetrodders.com/event/oreilly-auto-parts-wasilla-car-show/
END:VEVENT
BEGIN:VEVENT
DTSTART;TZID=America/Anchorage:20220521T110000
DTEND;TZID=America/Anchorage:20220521T150000
DTSTAMP:20260422T140925
CREATED:20220218T035100Z
LAST-MODIFIED:20220518T201145Z
UID:1617-1653130800-1653145200@statestreetrodders.com
SUMMARY:Palmer O'Reilly Auto Parts Car Show
DESCRIPTION:Come on out for a day of fun at the O’Reilly Auto Parts Car Show in Palmer\, Alaska. Saturday June 21\, 2022 from 11am to 3pm in downtown Palmer right along the Glenn Hwy. 401 Glacier View Ave. This is a 49th State Street Rodders Event. There will be food\, Exquisite Urban Tastes is scheduled to be there with their delicious Philly Cheese Stakes\, and trophies and a lot of beautiful cars to enjoy so come on by.  As always with 49th State Street Rodders Car Shows admission and participation is free.
URL:http://statestreetrodders.com/event/palmer-oreilly-auto-parts-car-show/
END:VEVENT
BEGIN:VEVENT
DTSTART;TZID=America/Anchorage:20220514T090000
DTEND;TZID=America/Anchorage:20220514T160000
DTSTAMP:20260422T140925
CREATED:20220304T040420Z
LAST-MODIFIED:20220312T210235Z
UID:1707-1652518800-1652544000@statestreetrodders.com
SUMMARY:Klassic Kruze
DESCRIPTION:Come Kruze with us.  Meet up at the Fred Meyer store in Eagle River in the parking lot around 9:30 and cruise out to Alaska Raceway Park for the Car Show.  Should be leaving Fred Meyer at around 11:00am.  If you don’t want to cruise but just show your vehicle the car show starts at Noon and runs to 4:00pm.  Affordable Catering will be the food truck at the show.  They have been with us before and have great food.  May 14th is opening day for the Oval Track so after the car show wander on over and watch the NASCAR races.  There will be more information as we get closer to the date of the show.  As always with 49th State Street Rodders Car Shows admission and participation is free.
URL:http://statestreetrodders.com/event/klassic-kruze/
END:VEVENT
BEGIN:VEVENT
DTSTART;TZID=America/Anchorage:20220508T100000
DTEND;TZID=America/Anchorage:20220508T160000
DTSTAMP:20260422T140925
CREATED:20220331T001959Z
LAST-MODIFIED:20220420T015919Z
UID:1751-1652004000-1652025600@statestreetrodders.com
SUMMARY:"Valley Chrome & Wheel" Car and Cycle Show
DESCRIPTION:This is the final day of our 3 day indoor car show at MTA Event Center and Ice Arena in Palmer.  Voting will close at 3:00pm so all votes can be tallied.  Grizzley Dogs\, Bar-B-Que Man and Exquisite Urban Tastes will be the food trucks here again today so the eating will be good.  Come on out and enjoy this final day of our show and enjoy the beautiful rides and vote for your favorite. \n\n\n\n1317 S Kerry Weiland Ct. Palmer across from Palmer High School.
URL:http://statestreetrodders.com/event/valley-chrome-wheel-car-and-cycle-show-3/
END:VEVENT
BEGIN:VEVENT
DTSTART;TZID=America/Anchorage:20220507T100000
DTEND;TZID=America/Anchorage:20220507T200000
DTSTAMP:20260422T140925
CREATED:20220331T001313Z
LAST-MODIFIED:20220506T051310Z
UID:1749-1651917600-1651953600@statestreetrodders.com
SUMMARY:"Valley Chrome & Wheel" Car and Cycle Show
DESCRIPTION:Today is Day 2 of “Valley Chrome and Wheels” Car and Cycle Show.  At the MTA Event Center and Ice Arena.  We are open today from 10:00am to 8:00pm.   Grizzley Dogs\, Bar-B-Que Man and Exquisite Urban Tastes are the food trucks that will be here today.  They have really great food and have supported our car shows over the years so everyone looks forward to eating with them.  So come on out and enjoy the day and vote for your favorite vehicle. \n\n\n\n1317 S. Kerry Weiland Ct.  Palmer.  Across from Palmer Middle School. \n\n\n\nAnd as always all of our shows are free to attend and free to show your vehicles.
URL:http://statestreetrodders.com/event/valley-chrome-wheel-car-and-cycle-show-2/
END:VEVENT
BEGIN:VEVENT
DTSTART;TZID=America/Anchorage:20220506T160000
DTEND;TZID=America/Anchorage:20220506T200000
DTSTAMP:20260422T140925
CREATED:20220331T000304Z
LAST-MODIFIED:20220331T000305Z
UID:1747-1651852800-1651867200@statestreetrodders.com
SUMMARY:"Valley Chrome & Wheel" Car and Cycle Show
DESCRIPTION:This is day one of our annual 3 day show at the MTA Ice Arena in downtown Palmer.  Matinee starts at 4 PM and runs to 8pm on Friday.  Grizzly Dogs Food truck will be there on Thursday afternoon so have dinner with us. \n\n\n\nLike all of our shows it is free to show your vehicle and attend our shows.  So come on out and enjoy yourself and see some pretty rides. \n\n\n\n1317 S. Kerry Weiland Ct. Palmer\, across from Palmer Middle School.
URL:http://statestreetrodders.com/event/valley-chrome-wheel-car-and-cycle-show/
END:VEVENT
BEGIN:VEVENT
DTSTART;TZID=America/Anchorage:20210911T120000
DTEND;TZID=America/Anchorage:20210911T160000
DTSTAMP:20260422T140925
CREATED:20210908T042307Z
LAST-MODIFIED:20210908T042309Z
UID:1460-1631361600-1631376000@statestreetrodders.com
SUMMARY:Annual 9/11 "Freedom Flag Run"
DESCRIPTION:It’s that time of year again for our annual 9/11 “Freedom Flag Run” memorial and this year the twentieth anniversary of the attack on the Twin Towers falls on 9/11.  Our show will run as usual with everyone meeting up at Wasilla High School around 9:30 AM and decorating their cars with flags and other memorabilia.  Then around 10:30 or 11 AM they will cruise over to Alaska Raceway Park taking a detour along the way off of Bogard Road down Hemmer to drive through the parking lots of both Tranquility Manor Assisted Living and Maple Springs. Then back on to Bogard to come out to the race track for the Car Show from noon to 4:00PM.  \n\n\n\nThis show we will be having 4 Trophies.  People’s Choice 1st\, 2nd and 3rd as well as People’s Choice Motorcycle.  \n\n\n\nStella’s Food truck will be there as well as “Hillbilly Kookin” South Carolina BBQ. \n\n\n\nIf you want to do burn outs make sure you have a helmet and a long sleeve shirt. \n\n\n\nAs with any of our bigger car shows pre-registration helps a lot in making the registration line move fast. Just email or DM me and let me know your name\, make\, model\, and year.  If you are not a 49th State Street Rodders club member don’t forget a contact number. \n\n\n\nHope the weather holds and we have beautiful day and a great show. 
URL:http://statestreetrodders.com/event/annual-9-11-freedom-flag-run/
END:VEVENT
BEGIN:VEVENT
DTSTART;TZID=America/Anchorage:20210829T110000
DTEND;TZID=America/Anchorage:20210829T160000
DTSTAMP:20260422T140925
CREATED:20210826T080658Z
LAST-MODIFIED:20210826T081003Z
UID:1438-1630234800-1630252800@statestreetrodders.com
SUMMARY:Reboot of State Fair Car Show (Not open to new participants)
DESCRIPTION:This is a redo of the State Fair Car Show.  There will be no votes or trophies that was done on the 23rd.  It is a bunch of the original 25 scheduled to show their cars last Monday getting together to show their cars in the sunshine instead of the rain\,  Just getting together for a nice day at the fair enjoying our rides.
URL:http://statestreetrodders.com/event/reboot-of-state-fair-car-show/
END:VEVENT
BEGIN:VEVENT
DTSTART;TZID=America/Anchorage:20210823T110000
DTEND;TZID=America/Anchorage:20210823T150000
DTSTAMP:20260422T140925
CREATED:20210313T072830Z
LAST-MODIFIED:20210806T221044Z
UID:937-1629716400-1629730800@statestreetrodders.com
SUMMARY:State Fair "Possibilities" Car Show
DESCRIPTION:
URL:http://statestreetrodders.com/event/state-fair-possibilities-car-show/
LOCATION:Alaska State Fair\, Palmer\, AK\, 99645\, United States
END:VEVENT
BEGIN:VEVENT
DTSTART;TZID=America/Anchorage:20210821T110000
DTEND;TZID=America/Anchorage:20210821T120000
DTSTAMP:20260422T140925
CREATED:20210313T072233Z
LAST-MODIFIED:20210813T015916Z
UID:930-1629543600-1629547200@statestreetrodders.com
SUMMARY:State Fair Parade
DESCRIPTION:
URL:http://statestreetrodders.com/event/state-fair-parade/
LOCATION:Downtown Palmer
END:VEVENT
BEGIN:VEVENT
DTSTART;TZID=America/Anchorage:20210814T170000
DTEND;TZID=America/Anchorage:20210814T210000
DTSTAMP:20260422T140925
CREATED:20210313T031749Z
LAST-MODIFIED:20210806T220551Z
UID:924-1628960400-1628974800@statestreetrodders.com
SUMMARY:"Hot Summer Nights" Car Show  Downtown Palmer
DESCRIPTION:
URL:http://statestreetrodders.com/event/hot-summer-nights-car-show-downtown-palmer/
LOCATION:Downtown Palmer
END:VEVENT
BEGIN:VEVENT
DTSTART;TZID=America/Anchorage:20210807T110000
DTEND;TZID=America/Anchorage:20210807T150000
DTSTAMP:20260422T140925
CREATED:20210313T030741Z
LAST-MODIFIED:20210806T221624Z
UID:920-1628334000-1628348400@statestreetrodders.com
SUMMARY:State Farm Mike Devine Car Show
DESCRIPTION:
URL:http://statestreetrodders.com/event/state-farm-mike-devine-car-show/
LOCATION:State Farm\, Wasilla\, 2200 E. Parks Hwy\, Wasilla\, AK\, 99645\, United States
END:VEVENT
BEGIN:VEVENT
DTSTART;TZID=America/Anchorage:20210801T090000
DTEND;TZID=America/Anchorage:20210801T170000
DTSTAMP:20260422T140925
CREATED:20210313T031104Z
LAST-MODIFIED:20210313T200819Z
UID:922-1627808400-1627837200@statestreetrodders.com
SUMMARY:Anchorage Park Strip Show-N-Shine Car Show
DESCRIPTION:
URL:http://statestreetrodders.com/event/anchorage-park-strip-show-n-shine-car-show/
LOCATION:Delaney Park Strip Downtown Anchorage\, 6473+5J Downtown\, Anchorage\, AK\, 99501\, United States
END:VEVENT
BEGIN:VEVENT
DTSTART;TZID=America/Anchorage:20210724T110000
DTEND;TZID=America/Anchorage:20210724T150000
DTSTAMP:20260422T140925
CREATED:20210313T030333Z
LAST-MODIFIED:20210719T004247Z
UID:914-1627124400-1627138800@statestreetrodders.com
SUMMARY:Sutton Alpine Historical Society " Valley Trash" Show-N-Shine Car Show
DESCRIPTION:
URL:http://statestreetrodders.com/event/sutton-alpine-historical-society-valley-trash-show-n-shine-car-show/
LOCATION:Sutton Alpine Historical Society\, 643 Daron Rd\, Sutton\, AK\, 99645\, United States
END:VEVENT
END:VCALENDAR