BEGIN:VCALENDAR
VERSION:2.0
PRODID:-//49th State Street Rodders - ECPv6.15.20//NONSGML v1.0//EN
CALSCALE:GREGORIAN
METHOD:PUBLISH
X-WR-CALNAME:49th State Street Rodders
X-ORIGINAL-URL:http://statestreetrodders.com
X-WR-CALDESC:Events for 49th State Street Rodders
REFRESH-INTERVAL;VALUE=DURATION:PT1H
X-Robots-Tag:noindex
X-PUBLISHED-TTL:PT1H
BEGIN:VTIMEZONE
TZID:America/Anchorage
BEGIN:DAYLIGHT
TZOFFSETFROM:-0900
TZOFFSETTO:-0800
TZNAME:AKDT
DTSTART:20220313T110000
END:DAYLIGHT
BEGIN:STANDARD
TZOFFSETFROM:-0800
TZOFFSETTO:-0900
TZNAME:AKST
DTSTART:20221106T100000
END:STANDARD
BEGIN:DAYLIGHT
TZOFFSETFROM:-0900
TZOFFSETTO:-0800
TZNAME:AKDT
DTSTART:20230312T110000
END:DAYLIGHT
BEGIN:STANDARD
TZOFFSETFROM:-0800
TZOFFSETTO:-0900
TZNAME:AKST
DTSTART:20231105T100000
END:STANDARD
BEGIN:DAYLIGHT
TZOFFSETFROM:-0900
TZOFFSETTO:-0800
TZNAME:AKDT
DTSTART:20240310T110000
END:DAYLIGHT
BEGIN:STANDARD
TZOFFSETFROM:-0800
TZOFFSETTO:-0900
TZNAME:AKST
DTSTART:20241103T100000
END:STANDARD
BEGIN:DAYLIGHT
TZOFFSETFROM:-0900
TZOFFSETTO:-0800
TZNAME:AKDT
DTSTART:20250309T110000
END:DAYLIGHT
BEGIN:STANDARD
TZOFFSETFROM:-0800
TZOFFSETTO:-0900
TZNAME:AKST
DTSTART:20251102T100000
END:STANDARD
END:VTIMEZONE
BEGIN:VEVENT
DTSTART;TZID=America/Anchorage:20240601T110000
DTEND;TZID=America/Anchorage:20240601T170000
DTSTAMP:20260422T144021
CREATED:20240120T040110Z
LAST-MODIFIED:20240601T092457Z
UID:2534-1717239600-1717261200@statestreetrodders.com
SUMMARY:Thunder Valley Flag Drag
DESCRIPTION:“THUNDER VALLEY FLAG DRAG” Alaska Raceway Park5599 Raceway\, Palmer. Mile 10.4 \n\n\n\nOld Glenn Hwy. Car set up at 10:00\, 1974 or older.  Show cars free admission. I don’t know for sure what time the car show starts.  This will be a fun day.  There are contest and live music and food trucks as well as a lot of really neat cars.  Dress up like the 50’s and enjoy the fun. \n\n\n\nThis is an Alaska Raceway Park event.
URL:http://statestreetrodders.com/event/thunder-valley-flag-drag-2/
END:VEVENT
BEGIN:VEVENT
DTSTART;TZID=America/Anchorage:20240527T120000
DTEND;TZID=America/Anchorage:20240527T160000
DTSTAMP:20260422T144021
CREATED:20240422T230819Z
LAST-MODIFIED:20240524T194607Z
UID:2606-1716811200-1716825600@statestreetrodders.com
SUMMARY:Memorial Day Car Show Anchorage Corvette Association
DESCRIPTION:We finally have an update to our Memorial Day Car Show event on May 27\, 2024. It will be held at the Anchorage VA Medical Center at 1201 N Muldoon Rd. The event begins at 12 noon and ends at 4 pm. If folks would like to register their car for the car show\, Registration is from noon to 2:00pm for parking and staging. The registration ‘fee’ is 2 cans of non perishable food or 2 packages of non perishable items like diapers or tp. There will be activities for children\, food trucks\, and 1st\, 2nd and 3rd place People’s Choice awards. The Honor Flight will be there and there will be an Honor Guard ceremony as well as a booth for the Armed Services YMCA for food donations. The VA will also have a booth with information. We are hoping for NO RAIN and expecting a good turnout and a good time. \n\n\n\n \n\n\n\nWe hope to see you there.
URL:http://statestreetrodders.com/event/memorial-day-car-show-anchorage-corvette-association/
END:VEVENT
BEGIN:VEVENT
DTSTART;TZID=America/Anchorage:20240525T110000
DTEND;TZID=America/Anchorage:20240525T150000
DTSTAMP:20260422T144021
CREATED:20240120T035341Z
LAST-MODIFIED:20240521T183936Z
UID:2526-1716634800-1716649200@statestreetrodders.com
SUMMARY:Palmer O'Reilly Auto Parts Car Show
DESCRIPTION:This coming weekend is the 49th State Street Rodders annual car show at O’Reilly Auto Parts in Palmer. Come on out for a day of fun in Palmer\, Alaska. Saturday May 25th\, 2024\, from 11am to 3pm in downtown Palmer right along the Glenn Hwy. 401 Glacier View Ave. Alaska’s Best Gourmet Dogs and Sea Garden are the food trucks that are scheduled to be there.  O’Reilly has some trophies to award and there will be lots of beautiful cars to enjoy so come on by. As always with 49th State Street Rodders Car Shows admission and participation is free but you must register your vehicle even if you don’t want anyone to vote for you and you must be present to win.  Our shows are Rain or Shine\, and we are hoping the weather will be nice like this past weekend.  Hope to see you there.
URL:http://statestreetrodders.com/event/palmer-oreilly-auto-parts-car-show-2/
END:VEVENT
BEGIN:VEVENT
DTSTART;TZID=America/Anchorage:20240518T110000
DTEND;TZID=America/Anchorage:20240518T150000
DTSTAMP:20260422T144021
CREATED:20240120T034928Z
LAST-MODIFIED:20240515T024315Z
UID:2524-1716030000-1716044400@statestreetrodders.com
SUMMARY:O'Reilly Auto Parts Car Show Wasilla\, AK
DESCRIPTION:Come on out for a day of fun at the O’Reilly Auto Parts Car Show in Wasilla\, Alaska. Saturday May 18th\, 2024 from 11am to 3pm.  231 E. Parks Hwy.  Alaska’s Best Gourmet Dogs Food Truck will be there\, O’Reilly has several trophies to award\, and some give always.  And of course\, there will be lots of beautiful cars to enjoy so come on by. The weather is predicted to be in the 50’s and slightly overcast.  Doesn’t look like any rain in sight\, so come on out and join us.  As always with all 49th State Street Rodders Car Shows admission and participation is free but you must be present to win\, and you must register your vehicle.  If you don’t want anyone to vote for your vehicle or you plan to leave early you must still register just don’t fill a vehicle ID to put in your window to give information to vote for you.  Hope to see you there.
URL:http://statestreetrodders.com/event/oreilly-auto-parts-car-show-wasilla-ak/
END:VEVENT
BEGIN:VEVENT
DTSTART;TZID=America/Anchorage:20240511T120000
DTEND;TZID=America/Anchorage:20240511T160000
DTSTAMP:20260422T144021
CREATED:20240120T034458Z
LAST-MODIFIED:20240509T080839Z
UID:2522-1715428800-1715443200@statestreetrodders.com
SUMMARY:Klassic Kruz & Swap Meet
DESCRIPTION:The 49th State Street Rodders present “Klassic Kruz” Car Show and Swap Meet May 11th\, 2024.  Come Kruz with us. Meet up at the Fred Meyer store in Eagle River in the parking lot around 10:30 and cruise out to Alaska Raceway Park for the Car Show. Should be leaving Fred Meyer at around 11:00am. If you don’t want to cruise but just show your vehicle and attend the Swap Meet the car show starts at Noon and runs to 4:00pm. There is no food truck for the show at this time so pack a snack if you think you will get peckish. 49th State Street Rodders Car Shows admission and participation is free\, but you must be present to win a trophy. So\, start cleaning out those parts you want to get rid of and bring them to the Swap Meet. \n\n\n\nFred Meyer Eagle River 13401 Old Glenn Hwy. Eagle River\, AK. 99577. Alaska Raceway Park 5599 Raceway Palmer\, Alaska 99645 Mile 10.4 Old Glenn Hwy. 
URL:http://statestreetrodders.com/event/klassic-kruz-swap-meet-2/
END:VEVENT
BEGIN:VEVENT
DTSTART;TZID=America/Anchorage:20240505T100000
DTEND;TZID=America/Anchorage:20240505T160000
DTSTAMP:20260422T144021
CREATED:20240120T033622Z
LAST-MODIFIED:20240422T231211Z
UID:2519-1714903200-1714924800@statestreetrodders.com
SUMMARY:MTA Valley Chrome & Wheel Show & Shine
DESCRIPTION:Well I am excited to say it is that time of year again for summer car shows and I am happy to announce that our first car show of the season courtesy of the City of Palmer and the Palmer City Council will be our annual “Valley Chrome and Wheel Car Show” May 3rd\, 4th\, and 5th at the MTA Event Center and Ice Rink at 1317 S. Kerry Weiland Way\, across from Palmer Middle School in downtown Palmer.  You can pre-register by DM or e-mail through our website 49thstatestreetrodders.org.  Staging will begin Thursday May 2nd from 11:00am to 8:00pm.  Show will start Friday May 3rd at 4:00pm to 8:00pm\, Saturday May 4th 10:00am to 8:00pm and Sunday May 5th from 10:00am to 4:00pm.  There will be 12 class trophies and a People’s Choice and Mayors Choice Award.  At the moment we have Sea Garden Food Truck scheduled to be at the show on Saturday.  As Always\, our shows are free to attend and free to enter but since we are inside we have a limited amount of space so pre-register early. \n\n\n\nSo\, come on out and spend a beautiful weekend checking out the car show and all the great things that are happening in Palmer that weekend.
URL:http://statestreetrodders.com/event/mta-valley-chrome-wheel-show-shine-4/
END:VEVENT
BEGIN:VEVENT
DTSTART;TZID=America/Anchorage:20240504T100000
DTEND;TZID=America/Anchorage:20240504T200000
DTSTAMP:20260422T144021
CREATED:20240120T032153Z
LAST-MODIFIED:20240422T231046Z
UID:2514-1714816800-1714852800@statestreetrodders.com
SUMMARY:MTA Valley Chrome & Wheel Show & Shine
DESCRIPTION:Well I am excited to say it is that time of year again for summer car shows and I am happy to announce that our first car show of the season courtesy of the City of Palmer and the Palmer City Council will be our annual “Valley Chrome and Wheel Car Show” May 3rd\, 4th\, and 5th at the MTA Event Center and Ice Rink at 1317 S. Kerry Weiland Way\, across from Palmer Middle School in downtown Palmer.  You can pre-register by DM or e-mail through our website 49thstatestreetrodders.org.  Staging will begin Thursday May 2nd from 11:00am to 8:00pm.  Show will start Friday May 3rd at 4:00pm to 8:00pm\, Saturday May 4th 10:00am to 8:00pm and Sunday May 5th from 10:00am to 4:00pm.  There will be 12 class trophies and a People’s Choice and Mayors Choice Award.  At the moment we have Sea Garden Food Truck scheduled to be at the show on Saturday.  As Always\, our shows are free to attend and free to enter but since we are inside we have a limited amount of space so pre-register early. \n\n\n\nSo\, come on out and spend a beautiful weekend checking out the car show and all the great things that are happening in Palmer that weekend.
URL:http://statestreetrodders.com/event/mta-valley-chrome-wheel-show-shine-3/
END:VEVENT
BEGIN:VEVENT
DTSTART;TZID=America/Anchorage:20240503T160000
DTEND;TZID=America/Anchorage:20240503T200000
DTSTAMP:20260422T144021
CREATED:20240120T031418Z
LAST-MODIFIED:20240401T200039Z
UID:2510-1714752000-1714766400@statestreetrodders.com
SUMMARY:MTA Valley Chrome & Wheel Show & Shine Matinee
DESCRIPTION:Matinee today from 4:00pm to 8:00 pm. \n\n\n\nWell I am excited to say it is that time of year again for summer car shows and I am happy to announce that our first car show of the season courtesy of the City of Palmer and the Palmer City Council will be our annual “Valley Chrome and Wheel Car Show” May 3rd\, 4th\, and 5th at the MTA Event Center and Ice Rink at 1317 S. Kerry Weiland Way\, across from Palmer Middle School in downtown Palmer.  You can pre-register by DM or e-mail through our website 49thstatestreetrodders.org.  Staging will begin Thursday May 2nd from 11:00am to 8:00pm.  Show will start Friday May 3rd at 4:00pm to 8:00pm\, Saturday May 4th 10:00am to 8:00pm and Sunday May 5th from 10:00am to 4:00pm.  There will be 12 class trophies and a People’s Choice and Mayors Choice Award.  At the moment we have Sea Garden Food Truck scheduled to be at the show.  As Always\, our shows are free to attend and free to enter but since we are inside we have a limited amount of space so pre-register early. \n\n\n\nSo\, come on out and spend a beautiful weekend checking out the car show and all the great things that are happening in Palmer that weekend.
URL:http://statestreetrodders.com/event/mta-valley-chrome-wheel-show-shine-2/
END:VEVENT
BEGIN:VEVENT
DTSTART;TZID=America/Anchorage:20240502T110000
DTEND;TZID=America/Anchorage:20240502T200000
DTSTAMP:20260422T144021
CREATED:20240120T030115Z
LAST-MODIFIED:20240401T201607Z
UID:2508-1714647600-1714680000@statestreetrodders.com
SUMMARY:Staging for MTA Valley Chrome & Wheel Show & Shine
DESCRIPTION:Well I am excited to say it is that time of year again for summer car shows and I am happy to announce that our first car show of the season courtesy of the City of Palmer and the Palmer City Council will be our annual “Valley Chrome and Wheel Car Show” May 3rd\, 4th\, and 5th at the MTA Event Center and Ice Rink at 1317 S. Kerry Weiland Way\, across from Palmer Middle School in downtown Palmer.  You can pre-register by DM or e-mail through our website 49thstatestreetrodders.org.  Staging will begin Thursday May 2nd from 11:00am to 8:00pm.  Show will start Friday May 3rd at 4:00pm to 8:00pm\, Saturday May 4th 10:00am to 8:00pm and Sunday May 5th from 10:00am to 4:00pm.  There will be 12 class trophies and a People’s Choice and Mayors Choice Award.  At the moment we have Sea Garden Food Truck scheduled to be at the show.  As Always\, our shows are free to attend and free to enter but since we are inside we have a limited amount of space so pre-register early. \n\n\n\nSo\, come on out and spend a beautiful weekend checking out the car show and all the great things that are happening in Palmer that weekend.
URL:http://statestreetrodders.com/event/mta-valley-chrome-wheel-show-shine/
END:VEVENT
BEGIN:VEVENT
DTSTART;TZID=America/Anchorage:20230909T000000
DTEND;TZID=America/Anchorage:20230909T160000
DTSTAMP:20260422T144021
CREATED:20230222T204723Z
LAST-MODIFIED:20230905T191144Z
UID:2106-1694217600-1694275200@statestreetrodders.com
SUMMARY:"FREEDOM FLAG RUN Car Show
DESCRIPTION:“FREEDOM FLAG RUN”   \n\n\n\nWell\, it’s that time of year again for our annual 9/11 “Freedom Flag Run” Memorial Car Show.  This year we will be having the Mechanized Motorcycle Association joining us for this show.   Our show will run as usual with everyone meeting up at Wasilla High School around 9:30 AM and decorating their cars with flags and other memorabilia. Then around 11 AM they will cruise over to Alaska Raceway Park taking a detour along the way off of Bogard Road down Hemmer to drive through the parking lots of both Tranquility Manor Assisted Living and Maple Springs. Then back on to Bogard to come out to the racetrack for the Car Show from noon to 4:00PM. \n\n\n\nLast month Preacher\, the man who first got the motorcycle community involved with our “Freedom Flag Run” passed away and this show the Mechanized Motorcycle Association will be memorializing him.As with any of our bigger car shows pre-registration helps a lot in making the registration line move fast. Just email or DM me and let me know your name\, make\, model\, and year. If you are not a 49th State Street Rodders club member don’t forget a contact number. \n\n\n\nThis show we will be having 4 Trophies. People’s Choice 1st\, 2nd and 3rd as well as People’s Choice Motorcycle.Exquisite Urban Tastes and Alaska’s Best Gourmet Hot Dogs will be the food trucks serving their tasty food.Looks like the weather is going to be beautiful for our last car show of 2023.    Hope to see you all there. \n\n\n\nThis is a 49th State Street Rodders Car Show.
URL:http://statestreetrodders.com/event/freedom-flag-run-3/
END:VEVENT
BEGIN:VEVENT
DTSTART;TZID=America/Anchorage:20230821T110000
DTEND;TZID=America/Anchorage:20230821T170000
DTSTAMP:20260422T144021
CREATED:20230222T204137Z
LAST-MODIFIED:20230222T204140Z
UID:2103-1692615600-1692637200@statestreetrodders.com
SUMMARY:Alaska State Fair "Car Show"
DESCRIPTION:–  “STATE FAIR CAR SHOW”\, Fair Grounds Palmer\, Yellow Entrance\,   \n\n\n\nJoint show 49th State Street Rodders and Midnight Sun Street Rod Car Club. There are limited number of entries.
URL:http://statestreetrodders.com/event/alaska-state-fair-car-show/
END:VEVENT
BEGIN:VEVENT
DTSTART;TZID=America/Anchorage:20230819T110000
DTEND;TZID=America/Anchorage:20230819T120000
DTSTAMP:20260422T144021
CREATED:20230222T203108Z
LAST-MODIFIED:20230222T203112Z
UID:2099-1692442800-1692446400@statestreetrodders.com
SUMMARY:Alaska State Fair Parade
DESCRIPTION:STATE FAIR PARADE \, Palmer Pre-stage at 8:30 behind depot.  Parade starts at 11:00AM \n\n\n\n– Antique Auto Mushers Car Show at the Palmer Fairgrounds after the Parade\, Yellow Entrance
URL:http://statestreetrodders.com/event/alaska-state-fair-parade-2/
END:VEVENT
BEGIN:VEVENT
DTSTART;TZID=America/Anchorage:20230812T170000
DTEND;TZID=America/Anchorage:20230812T210000
DTSTAMP:20260422T144021
CREATED:20230222T202020Z
LAST-MODIFIED:20230807T184709Z
UID:2090-1691859600-1691874000@statestreetrodders.com
SUMMARY:"HOT SUMMER NIGHTS" Car Show
DESCRIPTION:Well\, the summer is moving along fast and furiously.  August already and there are only 3 more 49th State Street Rodders Car Shows left. \n\n\n\nThis coming Saturday August 12th\, 2023 is “Hot Summer Nights” in downtown Palmer on S. Colony Way and Beyond from 5:00 to 9:00pm.  Exquisite Urban Tastes and Alaska’s Best Gourmet Dogs Food Trucks plan to be there to offer their delicious food.  Let’s hope that the weather this coming Saturday is as beautiful as it was this past Saturday but as all our shows it is “Rain or Shine” we will be there.  And remember you must be present to win so if you have a hot vehicle don’t duck out early.  I STRONGLY suggest that you pre-register.  If the weather is beautiful\, we could have up to 100 vehicles and the line gets long at check in.  Just message or email me the Make/Model\, Year and any information you want on the card for the public to know about your vehicle.  If you don’t want anyone to vote on your vehicle\, that’s fine\, just let me know and I will not give you a vehicle tag\, but you must register to show your vehicle.  Here’s to a gorgeous night in downtown Palmer with the streets lined with beautiful vehicles and people enjoying themselves on a “Hot Summer Nights.”
URL:http://statestreetrodders.com/event/hot-summer-nights-2/
END:VEVENT
BEGIN:VEVENT
DTSTART;TZID=America/Anchorage:20230806T090000
DTEND;TZID=America/Anchorage:20230806T180000
DTSTAMP:20260422T144021
CREATED:20230222T202740Z
LAST-MODIFIED:20230222T202745Z
UID:2096-1691312400-1691344800@statestreetrodders.com
SUMMARY:"Show-N-Shine" Anchorage Park Strip
DESCRIPTION:PARK STRIP Annual Jay  Ofsthun “SHOW-N-SHINE” in Anchorage.  9 AM to 6 PM. This is a      Midnight Sun Event
URL:http://statestreetrodders.com/event/show-n-shine-anchorage-park-strip/
END:VEVENT
BEGIN:VEVENT
DTSTART;TZID=America/Anchorage:20230805T110000
DTEND;TZID=America/Anchorage:20230805T140000
DTSTAMP:20260422T144021
CREATED:20230222T202350Z
LAST-MODIFIED:20230222T202355Z
UID:2093-1691233200-1691244000@statestreetrodders.com
SUMMARY:State Farm Car Show
DESCRIPTION:“STATE FARM CAR SHOW” Mike Devine Event 2200 E. Parks Hwy Ste A Wasilla 99654
URL:http://statestreetrodders.com/event/state-farm-car-show/
END:VEVENT
BEGIN:VEVENT
DTSTART;TZID=America/Anchorage:20230722T110000
DTEND;TZID=America/Anchorage:20230722T150000
DTSTAMP:20260422T144021
CREATED:20230222T201501Z
LAST-MODIFIED:20230718T001133Z
UID:2086-1690023600-1690038000@statestreetrodders.com
SUMMARY:"Valley Trash" Show-N-Shine Car Show
DESCRIPTION:SUTTON ALPINE HISTORICAL CENTER “VALLEY TRASH” CAR SHOW \n\n\n\nSummer is moving along fast\, and it is time for our annual “Valley Trash” Show & Shine Car Show at the Sutton Historical Society this coming Saturday July 22\,2023.  643 Daron Rd. Sutton\, AK. Chickaloon Mile 61.6 North Glenn Hwy.  The historical society will have a dessert auction and hamburgers and hotdogs for donation to raise money for upkeep of the park.  There will be beautiful vehicles and trophies for your favorites so come on out and enjoy the day with us and help raise money for the historical society.  As of this posting the weather app says it will be in the mid 70’s and partially sunny.  And we know they never lie.  As with all of the 49th State Street Rodders Car Shows admission is free\, and it is free to show your vehicle.
URL:http://statestreetrodders.com/event/valley-trash-show-n-shine/
END:VEVENT
BEGIN:VEVENT
DTSTART;TZID=America/Anchorage:20230715T110000
DTEND;TZID=America/Anchorage:20230715T150000
DTSTAMP:20260422T144021
CREATED:20230411T230550Z
LAST-MODIFIED:20230712T210856Z
UID:2262-1689418800-1689433200@statestreetrodders.com
SUMMARY:Palmer Senior Center Car Show
DESCRIPTION:This coming Saturday July 15th\, 2023 we will be having a car show at the Palmer Senior Center 1132 S. Chugach St.  Palmer\, AK 99645.  “Cars & Crafts” the event is from 10:00am to 4:00Pm but the car show runs from our usual hours from 11:00 to 3:00. Of course\, we will be giving out trophies for the Peoples 3 favorite vehicles.  The senior center is having a dessert auction\, split the pot\, a children’s activity area\, vendors\, and the gift shop will be open.  They will also have hot dogs and chips available.  The weather is supposed to be on the warmer side and doesn’t look like there will be rain so come on out and enjoy the day with us and the Palmer Senior Center.
URL:http://statestreetrodders.com/event/palmer-senior-center/
END:VEVENT
BEGIN:VEVENT
DTSTART;TZID=America/Anchorage:20230714T170000
DTEND;TZID=America/Anchorage:20230714T200000
DTSTAMP:20260422T144021
CREATED:20230222T210641Z
LAST-MODIFIED:20230222T210646Z
UID:2114-1689354000-1689364800@statestreetrodders.com
SUMMARY:Bear Paw Festival Car Show
DESCRIPTION:“BEAR PAW FESTIVAL Classic CAR SHOW”\, Eagle River
URL:http://statestreetrodders.com/event/bear-paw-festival-car-show-4/
END:VEVENT
BEGIN:VEVENT
DTSTART;TZID=America/Anchorage:20230708T110000
DTEND;TZID=America/Anchorage:20230708T150000
DTSTAMP:20260422T144021
CREATED:20230326T011034Z
LAST-MODIFIED:20230705T042446Z
UID:2223-1688814000-1688828400@statestreetrodders.com
SUMMARY:Lowes Car Show
DESCRIPTION:Come on out and enjoy our beautiful vehicles at the Lowe’s in Wasilla Car Show Saturday July 8th 2023.  2561 E. Sun Mountain Ave.  Wasilla\, Ak. 99654.  Alaska’s Best Gourmet Dogs will be the food truck.  There will be trophies.  This is a 49th Setate Street Rodders Event.  As with all 49th State Street Rodder events it is free to attend and free to show your vehicle so come on out and join us.
URL:http://statestreetrodders.com/event/lowes-car-show-2/
END:VEVENT
BEGIN:VEVENT
DTSTART;TZID=America/Anchorage:20230702T120000
DTEND;TZID=America/Anchorage:20230702T170000
DTSTAMP:20260422T144021
CREATED:20230322T023822Z
LAST-MODIFIED:20230628T034949Z
UID:2206-1688299200-1688317200@statestreetrodders.com
SUMMARY:Country Cutts Car Show
DESCRIPTION:Come on out and enjoy the beautiful vehicles at “Country Cutts Car Show” Sunday July 2nd\, 2023 in downtown Palmer.  There will be trophies and prizes and Exquisite Urban Tastes and Cravinz 4 Dayz will be the food trucsk.  The car show is from Noon to 4:00 at 432 Alaska Street.  Palmer\, AK 99645.  This is a 49th State Street Rodders Event.
URL:http://statestreetrodders.com/event/country-cutts-2/
END:VEVENT
BEGIN:VEVENT
DTSTART;TZID=America/Anchorage:20230624T110000
DTEND;TZID=America/Anchorage:20230624T150000
DTSTAMP:20260422T144021
CREATED:20230528T171927Z
LAST-MODIFIED:20230624T021259Z
UID:2372-1687604400-1687618800@statestreetrodders.com
SUMMARY:Freedom Family Festival / 2nd Annual Art Keller Memorial Car Show
DESCRIPTION:Saturday June 24th\, 2023\, is the 49th State Street Rodders\, 2nd Annual “Art Keller Memorial Car Show” during the Freedom Family Festival at the VFW Post 9785 in Eagle River.  The car show is from 11:00am to 3:00pm.  There will be plenty of food kid’s activities and the VFW is doing food.  The address is 10527 VFW Rd. Eagle River\, AK. Weather looks to be partly sunny so come on out and enjoy the day with us.
URL:http://statestreetrodders.com/event/freedom-family-festival-2nd-annual-art-keller-memorial-car-show/
END:VEVENT
BEGIN:VEVENT
DTSTART;TZID=America/Anchorage:20230621T050000
DTEND;TZID=America/Anchorage:20230621T200000
DTSTAMP:20260422T144021
CREATED:20230222T200937Z
LAST-MODIFIED:20230222T200941Z
UID:2082-1687323600-1687377600@statestreetrodders.com
SUMMARY:Solstice "The Rumble" Car Show
DESCRIPTION:SOLSTICE “THE RUMBLE” at Mirror Lake.  This is a Midnight Sun Street Rod Car Club Event
URL:http://statestreetrodders.com/event/solstice-the-rumble-car-show/
END:VEVENT
BEGIN:VEVENT
DTSTART;TZID=America/Anchorage:20230617T120000
DTEND;TZID=America/Anchorage:20230617T160000
DTSTAMP:20260422T144021
CREATED:20230526T210420Z
LAST-MODIFIED:20230526T210422Z
UID:2359-1687003200-1687017600@statestreetrodders.com
SUMMARY:Denali Harley-Davidson Bike & Car Show
DESCRIPTION:Denali Harly-Davidson is hosting a bike and car show June 17\, 2023 from noon to 4:00pm at 1497 S Heyer Rd.  Off the Parks Hwy where Palmer and Wasilla meet.  There will be a professional photographer and Harley Swag as prizes.
URL:http://statestreetrodders.com/event/denali-harley-davidson-bike-car-show/
END:VEVENT
BEGIN:VEVENT
DTSTART;TZID=America/Anchorage:20230617T100000
DTEND;TZID=America/Anchorage:20230617T150000
DTSTAMP:20260422T144021
CREATED:20230222T194205Z
LAST-MODIFIED:20230307T045245Z
UID:2076-1686996000-1687014000@statestreetrodders.com
SUMMARY:Arctic Air-cooled VW's Reunion Car Show
DESCRIPTION:
URL:http://statestreetrodders.com/event/arctic-air-cooled-vws-reunion-car-show/
END:VEVENT
BEGIN:VEVENT
DTSTART;TZID=America/Anchorage:20230611T120000
DTEND;TZID=America/Anchorage:20230611T180000
DTSTAMP:20260422T144021
CREATED:20230517T191742Z
LAST-MODIFIED:20230606T195338Z
UID:2329-1686484800-1686506400@statestreetrodders.com
SUMMARY:Forget-Me-Not Community Fair & Car Show
DESCRIPTION:Forger-Me-Not Community Fair is an annual event that builds community connections for positive change in the Mat-Su Valley by promoting organizations that are serving our community in love.  Come on out and enjoy a stage of live performers\, a variety of food vendors and booths featuring some amazing organizations.  This year for the 1st time AK 49th State Street Rodders are going to put on a Car Show at this event.  The car show is between Noon and 4:00pm at 2238 Inner Springer Loop\, Palmer AK.  At the SDA Church and Amazing Grace Academy.   This event is Free to attend.
URL:http://statestreetrodders.com/event/forget-me-not-community-fair-car-show-2/
END:VEVENT
BEGIN:VEVENT
DTSTART;TZID=America/Anchorage:20230611T120000
DTEND;TZID=America/Anchorage:20230611T170000
DTSTAMP:20260422T144021
CREATED:20230222T191805Z
LAST-MODIFIED:20230606T195541Z
UID:2070-1686484800-1686502800@statestreetrodders.com
SUMMARY:"Colony Days" Car Show
DESCRIPTION:“Colony Days Car Show”  – Downtown Palmer.  Sunday June 11th\, 2023\, 12:00PM to 5:00PM.  This show is an Alaska USA Federal Credit Union Show.
URL:http://statestreetrodders.com/event/colony-days-car-show-3/
END:VEVENT
BEGIN:VEVENT
DTSTART;TZID=America/Anchorage:20230611T080000
DTEND;TZID=America/Anchorage:20230616T170000
DTSTAMP:20260422T144021
CREATED:20230222T210239Z
LAST-MODIFIED:20230503T044625Z
UID:2111-1686470400-1686934800@statestreetrodders.com
SUMMARY:Speed Week
DESCRIPTION:“SPEED WEEK”  Leave Alaska Raceway Park to Fairbanks then Tok and back to Alaska Raceway Park.  More information to come. Alaska Raceway Park\, 5599 Raceway. Palmer 99645 Mile 10.4 Old Glenn Hwy. 
URL:http://statestreetrodders.com/event/speed-week/
END:VEVENT
BEGIN:VEVENT
DTSTART;TZID=America/Anchorage:20230610T110000
DTEND;TZID=America/Anchorage:20230610T120000
DTSTAMP:20260422T144021
CREATED:20230222T192732Z
LAST-MODIFIED:20230222T192734Z
UID:2074-1686394800-1686398400@statestreetrodders.com
SUMMARY:Colony Days Parade
DESCRIPTION:
URL:http://statestreetrodders.com/event/colony-days-parade-2/
END:VEVENT
BEGIN:VEVENT
DTSTART;TZID=America/Anchorage:20230610T100000
DTEND;TZID=America/Anchorage:20230610T160000
DTSTAMP:20260422T144021
CREATED:20230521T155804Z
LAST-MODIFIED:20230526T210834Z
UID:2344-1686391200-1686412800@statestreetrodders.com
SUMMARY:VINTAGE SNOGO SHOW
DESCRIPTION:Palmer Ale House\, Downtown Palmer.  Charity Event.  Snow Machines
URL:http://statestreetrodders.com/event/vintage-snogo-show/
END:VEVENT
BEGIN:VEVENT
DTSTART;TZID=America/Anchorage:20230604T100000
DTEND;TZID=America/Anchorage:20230604T180000
DTSTAMP:20260422T144021
CREATED:20230222T194336Z
LAST-MODIFIED:20230228T222728Z
UID:2079-1685872800-1685901600@statestreetrodders.com
SUMMARY:Rev Alaska
DESCRIPTION:Menards Sports Center in Wasilla
URL:http://statestreetrodders.com/event/rev-alaska/
END:VEVENT
END:VCALENDAR