BEGIN:VCALENDAR
VERSION:2.0
PRODID:-//49th State Street Rodders - ECPv6.15.20//NONSGML v1.0//EN
CALSCALE:GREGORIAN
METHOD:PUBLISH
X-ORIGINAL-URL:http://statestreetrodders.com
X-WR-CALDESC:Events for 49th State Street Rodders
REFRESH-INTERVAL;VALUE=DURATION:PT1H
X-Robots-Tag:noindex
X-PUBLISHED-TTL:PT1H
BEGIN:VTIMEZONE
TZID:America/Anchorage
BEGIN:DAYLIGHT
TZOFFSETFROM:-0900
TZOFFSETTO:-0800
TZNAME:AKDT
DTSTART:20250309T110000
END:DAYLIGHT
BEGIN:STANDARD
TZOFFSETFROM:-0800
TZOFFSETTO:-0900
TZNAME:AKST
DTSTART:20251102T100000
END:STANDARD
BEGIN:DAYLIGHT
TZOFFSETFROM:-0900
TZOFFSETTO:-0800
TZNAME:AKDT
DTSTART:20260308T110000
END:DAYLIGHT
BEGIN:STANDARD
TZOFFSETFROM:-0800
TZOFFSETTO:-0900
TZNAME:AKST
DTSTART:20261101T100000
END:STANDARD
BEGIN:DAYLIGHT
TZOFFSETFROM:-0900
TZOFFSETTO:-0800
TZNAME:AKDT
DTSTART:20270314T110000
END:DAYLIGHT
BEGIN:STANDARD
TZOFFSETFROM:-0800
TZOFFSETTO:-0900
TZNAME:AKST
DTSTART:20271107T100000
END:STANDARD
END:VTIMEZONE
BEGIN:VEVENT
DTSTART;TZID=America/Anchorage:20260712T120000
DTEND;TZID=America/Anchorage:20260712T160000
DTSTAMP:20260422T140919
CREATED:20260310T190603Z
LAST-MODIFIED:20260310T190607Z
UID:2957-1783857600-1783872000@statestreetrodders.com
SUMMARY:"Country Cutts Car Show"
DESCRIPTION:49th State Street Rodders Annual Country Cutts Car Show Sunday July 12th from Noon to 4:00pm. The new address is 2505 N. Old Glenn Hwy. Palmer. As with all our shows it is free to enter a vehicle and free to attend but you must be preset to win.  As usual Stan will have trophies and give aways\, but you must be present to win. So come on out we will be there rain or shine. 
URL:http://statestreetrodders.com/event/country-cutts-car-show-3/
END:VEVENT
BEGIN:VEVENT
DTSTART;TZID=America/Anchorage:20260718T110000
DTEND;TZID=America/Anchorage:20260718T150000
DTSTAMP:20260422T140919
CREATED:20260310T191016Z
LAST-MODIFIED:20260310T191039Z
UID:2960-1784372400-1784386800@statestreetrodders.com
SUMMARY:"Valley Trash Show & Shine Car Show"
DESCRIPTION:Saturday July 18th is the “Valley Trash” Show & Shine Car Show from 11:00am to 3:00pm at the Sutton Alpine Historical Society. This is a fundraiser to raise money for maintenance for the buildings. The Historical Society offers Hot Dogs and Hamburgers for a donation   After the show there is a dessert auction to help raise money for the park. This is a very popular show and people come from all over the state to attend and show their vehicles. Last year we even had two vehicles from South America. Sutton Alpine Historical Society Sutton AK 99674 Chickaloon Mile 66.6 North Glenn Hwy. Remember with all of our shows they are free to attend and free to enter and you must be present to win. Rain or Shine we will be there\, so we hope to see you.
URL:http://statestreetrodders.com/event/valley-trash-show-shine-car-show-2/
END:VEVENT
BEGIN:VEVENT
DTSTART;TZID=America/Anchorage:20260808T170000
DTEND;TZID=America/Anchorage:20260808T210000
DTSTAMP:20260422T140919
CREATED:20260310T191713Z
LAST-MODIFIED:20260310T191717Z
UID:2964-1786208400-1786222800@statestreetrodders.com
SUMMARY:"Hot Summer Nights"
DESCRIPTION:Saturday August 8th\, 2026\, is “Hot Summer Nights” in downtown Palmer on S. Colony Way and beyond from 5:00 to 9:00pm.  Let’s hope that the weather is beautiful but as with all our shows it is “Rain or Shine” we will be there.  And remember you MUST BE PRESENT TO WIN so if you have a hot vehicle don’t duck out early.  I also STRONGLY suggest that you pre-register.  If the weather is beautiful\, we could have up to 100 vehicles\, and the line gets long at check in.  Just message or email me your name\, the Make/Model/Year of your vehicle\, and contact number and any information you want on the card for the public to know about your vehicle.  If you don’t want anyone to vote on your vehicle\, that’s fine\, just let me know and I will not give you a vehicle tag\, but you must register to show your vehicle.  Here’s to a gorgeous night in downtown Palmer with the streets lined with beautiful vehicles and people enjoying themselves on a “Hot Summer Night” And Remember as with all 49th State Street Rodders events it is FREE to Show and FREE to Enter.  Don’t get scammed!
URL:http://statestreetrodders.com/event/hot-summer-nights-4/
END:VEVENT
BEGIN:VEVENT
DTSTART;TZID=America/Anchorage:20260822T110000
DTEND;TZID=America/Anchorage:20260822T150000
DTSTAMP:20260422T140919
CREATED:20260310T194737Z
LAST-MODIFIED:20260310T194741Z
UID:2967-1787396400-1787410800@statestreetrodders.com
SUMMARY:"Valley Country Store #3" Car Show
DESCRIPTION:This is our Second “ Valley Country Store #3 Car Show”.  We are all excited to have added this show to our schedule.  We had a huge turn out last year. The date is Saturday August 22nd.  The time is 11:00am to 3:00pm and the place is 4544 N. Trunk Rd. Corner of Trunk and Palmer Fishhook.  Valley Country Store will have hotdogs and probably something else from their expanded store menu.  They have good food.  We will be giving out our People’s Choice trophies; remember you must be present to win.  So\, Rain or Shine we will be there.  Hope to see you there.  REMEMBER all 49th State Street Rodder Shows are FREE to attend and FREE to show.  Don’t get Scammed!
URL:http://statestreetrodders.com/event/valley-country-store-3-car-show/
END:VEVENT
BEGIN:VEVENT
DTSTART;TZID=America/Anchorage:20260824T110000
DTEND;TZID=America/Anchorage:20260824T180000
DTSTAMP:20260422T140919
CREATED:20260310T195734Z
LAST-MODIFIED:20260310T195737Z
UID:2973-1787569200-1787594400@statestreetrodders.com
SUMMARY:Alaska State Fair Car Show
DESCRIPTION:I do not have all the information for this show at this time.  Will post more as we get closer to the date.
URL:http://statestreetrodders.com/event/alaska-state-fair-car-show-4/
END:VEVENT
BEGIN:VEVENT
DTSTART;TZID=America/Anchorage:20260905T120000
DTEND;TZID=America/Anchorage:20260905T160000
DTSTAMP:20260422T140919
CREATED:20260310T195341Z
LAST-MODIFIED:20260310T195345Z
UID:2970-1788609600-1788624000@statestreetrodders.com
SUMMARY:"Freedom Flag Run" Classic Car Show
DESCRIPTION:The 49th State Street Rodders Proudly present our annual 9/11 Memorial Car Show the “Freedom Flag Run”. Saturday\, September 5th\, 2026.  I can’t believe the summer car show season is over already.  Seems like it just began. Our last show of the season will run as usual with everyone who wishes meeting up at Wasilla High School around 10:00 AM and decorating their cars with flags and other memorabilia. Then around 11:00 AM they will cruise over to Alaska Raceway Park taking a detour along the way off of Bogard Road down E. Palmer Moose Dr. to Hemmer to drive through the parking lots of both Tranquility Manor Assisted Living and Maple Springs. Then back on Hemmer to E. Palmer Moose Dr. to return to Bogard to come out to the racetrack\, 5599 S. Race Way for the Car Show from noon to 4:00PM. \n\n\n\nAs with any of our bigger car shows pre-registration helps a lot in making the registration line move fast. Just email or DM me and let me know your name\, make\, model\, and year. If you are not a 49th State Street Rodders club member don’t forget a contact number. \n\n\n\nRain or Shine we will be there and remember as with all 49th State Street Rodders events it is FREE to attend and FREE to show so don’t get scammed!
URL:http://statestreetrodders.com/event/freedom-flag-run-classic-car-show/
END:VEVENT
END:VCALENDAR