BEGIN:VCALENDAR
VERSION:2.0
PRODID:-//49th State Street Rodders - ECPv6.15.20//NONSGML v1.0//EN
CALSCALE:GREGORIAN
METHOD:PUBLISH
X-WR-CALNAME:49th State Street Rodders
X-ORIGINAL-URL:http://statestreetrodders.com
X-WR-CALDESC:Events for 49th State Street Rodders
REFRESH-INTERVAL;VALUE=DURATION:PT1H
X-Robots-Tag:noindex
X-PUBLISHED-TTL:PT1H
BEGIN:VTIMEZONE
TZID:America/Anchorage
BEGIN:DAYLIGHT
TZOFFSETFROM:-0900
TZOFFSETTO:-0800
TZNAME:AKDT
DTSTART:20180311T110000
END:DAYLIGHT
BEGIN:STANDARD
TZOFFSETFROM:-0800
TZOFFSETTO:-0900
TZNAME:AKST
DTSTART:20181104T100000
END:STANDARD
BEGIN:DAYLIGHT
TZOFFSETFROM:-0900
TZOFFSETTO:-0800
TZNAME:AKDT
DTSTART:20190310T110000
END:DAYLIGHT
BEGIN:STANDARD
TZOFFSETFROM:-0800
TZOFFSETTO:-0900
TZNAME:AKST
DTSTART:20191103T100000
END:STANDARD
BEGIN:DAYLIGHT
TZOFFSETFROM:-0900
TZOFFSETTO:-0800
TZNAME:AKDT
DTSTART:20200308T110000
END:DAYLIGHT
BEGIN:STANDARD
TZOFFSETFROM:-0800
TZOFFSETTO:-0900
TZNAME:AKST
DTSTART:20201101T100000
END:STANDARD
BEGIN:DAYLIGHT
TZOFFSETFROM:-0900
TZOFFSETTO:-0800
TZNAME:AKDT
DTSTART:20210314T110000
END:DAYLIGHT
BEGIN:STANDARD
TZOFFSETFROM:-0800
TZOFFSETTO:-0900
TZNAME:AKST
DTSTART:20211107T100000
END:STANDARD
END:VTIMEZONE
BEGIN:VEVENT
DTSTART;TZID=America/Anchorage:20200802T090000
DTEND;TZID=America/Anchorage:20200802T170000
DTSTAMP:20260422T234324
CREATED:20191021T202816Z
LAST-MODIFIED:20200730T220841Z
UID:561-1596358800-1596387600@statestreetrodders.com
SUMMARY:Canceled\, Show and Shine Park Strip Car Show
DESCRIPTION:Downtown Anchorage\, Alaska \nAll Car Club Event
URL:http://statestreetrodders.com/event/show-and-shine-park-strip-car-show/
LOCATION:AK
END:VEVENT
BEGIN:VEVENT
DTSTART;TZID=America/Anchorage:20200801T080000
DTEND;TZID=America/Anchorage:20200801T170000
DTSTAMP:20260422T234324
CREATED:20191021T202522Z
LAST-MODIFIED:20200630T192716Z
UID:558-1596268800-1596301200@statestreetrodders.com
SUMMARY:Canceled State Farm / R&W Hamburger Car Show
DESCRIPTION:Across from Lowes in Wasilla \nAll Car Club Event
URL:http://statestreetrodders.com/event/state-farm-rw-hamburger-car-show/
LOCATION:State Farm\, Wasilla\, 2200 E. Parks Hwy\, Wasilla\, AK\, 99645\, United States
END:VEVENT
BEGIN:VEVENT
DTSTART;TZID=America/Anchorage:20200725T110000
DTEND;TZID=America/Anchorage:20200725T150000
DTSTAMP:20260422T234324
CREATED:20200223T163518Z
LAST-MODIFIED:20200722T023343Z
UID:708-1595674800-1595689200@statestreetrodders.com
SUMMARY:Alyeska Tire Car Show
DESCRIPTION:
URL:http://statestreetrodders.com/event/alyeska-tire-car-show/
LOCATION:Alyeska Tire\, 7260 Schelin Spur\, Palmer\, AK\, 99645\, United States
ORGANIZER;CN="49th State Street Rodders":MAILTO:ak49statestreetrodders@gmail.com
END:VEVENT
BEGIN:VEVENT
DTSTART;TZID=America/Anchorage:20200718T110000
DTEND;TZID=America/Anchorage:20200718T150000
DTSTAMP:20260422T234324
CREATED:20200223T163123Z
LAST-MODIFIED:20200714T232614Z
UID:703-1595070000-1595084400@statestreetrodders.com
SUMMARY:Show-N-Shine Sutton Alpine Historical Society Car Show
DESCRIPTION:
URL:http://statestreetrodders.com/event/show-n-shine-sutton-alpine-historical-society-car-show/
LOCATION:Sutton Alpine Historical Society\, 643 Daron Rd\, Sutton\, AK\, 99645\, United States
ORGANIZER;CN="49th State Street Rodders":MAILTO:ak49statestreetrodders@gmail.com
END:VEVENT
BEGIN:VEVENT
DTSTART;TZID=America/Anchorage:20200712T120000
DTEND;TZID=America/Anchorage:20200712T150000
DTSTAMP:20260422T234324
CREATED:20200222T001234Z
LAST-MODIFIED:20200601T014247Z
UID:678-1594555200-1594566000@statestreetrodders.com
SUMMARY:Country Cutts
DESCRIPTION:
URL:http://statestreetrodders.com/event/country-cutts/
LOCATION:Country Cutts\, 432 s. Alaska St.\, Palmer\, AK\, 99645\, United States
ORGANIZER;CN="49th State Street Rodders":MAILTO:ak49statestreetrodders@gmail.com
END:VEVENT
BEGIN:VEVENT
DTSTART;TZID=America/Anchorage:20200711T110000
DTEND;TZID=America/Anchorage:20200711T150000
DTSTAMP:20260422T234324
CREATED:20200221T232306Z
LAST-MODIFIED:20200607T160323Z
UID:656-1594465200-1594479600@statestreetrodders.com
SUMMARY:Rescheduled\, Car Show at Lowe's in Wasilla
DESCRIPTION:
URL:http://statestreetrodders.com/event/car-show-at-lowes-in-wasilla/
LOCATION:Lowe’s Wasilla\, 2561 E. Sun Mountain Ave.\, Wasilla\, 99654\, United States
END:VEVENT
BEGIN:VEVENT
DTSTART;TZID=America/Anchorage:20200710T170000
DTEND;TZID=America/Anchorage:20200710T210000
DTSTAMP:20260422T234324
CREATED:20191021T201937Z
LAST-MODIFIED:20200629T220316Z
UID:555-1594400400-1594414800@statestreetrodders.com
SUMMARY:Paused Bear Paw Festival Car Show
DESCRIPTION:Eagle River\, Alaska \nAll Car Club Event
URL:http://statestreetrodders.com/event/bear-paw-festival-car-show/
LOCATION:Bear Paw Festival
END:VEVENT
BEGIN:VEVENT
DTSTART;TZID=America/Anchorage:20200704T120000
DTEND;TZID=America/Anchorage:20200704T160000
DTSTAMP:20260422T234324
CREATED:20200221T203258Z
LAST-MODIFIED:20200629T220209Z
UID:635-1593864000-1593878400@statestreetrodders.com
SUMMARY:Car Show at O'Reilly's in Wasilla
DESCRIPTION:
URL:http://statestreetrodders.com/event/car-show-at-oreillys-in-wasilla/
LOCATION:O’Reilly’s in Wasilla\, 231 E. Parkd HWY.\, Wasilla\, AK\, 99654\, United States
ORGANIZER;CN="49th State Street Rodders":MAILTO:ak49statestreetrodders@gmail.com
END:VEVENT
BEGIN:VEVENT
DTSTART;TZID=America/Anchorage:20200703T160000
DTEND;TZID=America/Anchorage:20200705T200000
DTSTAMP:20260422T234324
CREATED:20200223T015928Z
LAST-MODIFIED:20200601T014443Z
UID:682-1593792000-1593979200@statestreetrodders.com
SUMMARY:Canceled Wasilla Summer Fest Car Show
DESCRIPTION:
URL:http://statestreetrodders.com/event/682/
LOCATION:Menards Event Center\, 1001 S. Clapp St.\, Wasilla\, AK\, 99654\, United States
ORGANIZER;CN="49th State Street Rodders":MAILTO:ak49statestreetrodders@gmail.com
END:VEVENT
BEGIN:VEVENT
DTSTART;TZID=America/Anchorage:20200702T100000
DTEND;TZID=America/Anchorage:20200702T200000
DTSTAMP:20260422T234324
CREATED:20200223T020155Z
LAST-MODIFIED:20200601T014334Z
UID:686-1593684000-1593720000@statestreetrodders.com
SUMMARY:Canceled Wasilla Summer Fest Car Show
DESCRIPTION:
URL:http://statestreetrodders.com/event/686/
LOCATION:Menards Event Center\, 1001 S. Clapp St.\, Wasilla\, AK\, 99654\, United States
END:VEVENT
BEGIN:VEVENT
DTSTART;TZID=America/Anchorage:20200627T120000
DTEND;TZID=America/Anchorage:20200627T170000
DTSTAMP:20260422T234324
CREATED:20191021T195531Z
LAST-MODIFIED:20200601T012405Z
UID:538-1593259200-1593277200@statestreetrodders.com
SUMMARY:Flag Drag at Alaska Raceway Park
DESCRIPTION:Rescheduled Flag Drag at Alaska Raceway Park Postponed from May 30 to June 27\, 2020 \nFree to Show a Car at the Car Show \nSmall entrance fee \n$20.00 to Drag
URL:http://statestreetrodders.com/event/flag-drag-at-alaska-raceway-park/
LOCATION:AK
END:VEVENT
BEGIN:VEVENT
DTSTART;TZID=America/Anchorage:20200627T110000
DTEND;TZID=America/Anchorage:20200627T150000
DTSTAMP:20260422T234324
CREATED:20200223T162217Z
LAST-MODIFIED:20200629T215914Z
UID:698-1593255600-1593270000@statestreetrodders.com
SUMMARY:Canceled Alaska Sales and Service Car Show
DESCRIPTION:
URL:http://statestreetrodders.com/event/alaska-sales-and-service-car-show/
LOCATION:Alaska Sales & Service\, 6275 E. Blue Lupine Dr.\, Wasilla\, AK\, 99645\, United States
ORGANIZER;CN="49th State Street Rodders":MAILTO:ak49statestreetrodders@gmail.com
END:VEVENT
BEGIN:VEVENT
DTSTART;TZID=America/Anchorage:20200620T170000
DTEND;TZID=America/Anchorage:20200620T210000
DTSTAMP:20260422T234324
CREATED:20191021T201619Z
LAST-MODIFIED:20200607T160429Z
UID:552-1592672400-1592686800@statestreetrodders.com
SUMMARY:Summer Solstice Rumble at Mirror Lake
DESCRIPTION:Mirror Lake Alaska \nAll Car Clubs Event \n 
URL:http://statestreetrodders.com/event/summer-solstice-rumble-at-mirror-lake/
LOCATION:Mirror Lake\, Alaska
END:VEVENT
BEGIN:VEVENT
DTSTART;TZID=America/Anchorage:20200620T120000
DTEND;TZID=America/Anchorage:20200620T160000
DTSTAMP:20260422T234324
CREATED:20191021T201308Z
LAST-MODIFIED:20200601T013818Z
UID:548-1592654400-1592668800@statestreetrodders.com
SUMMARY:Canceled Family Freedom Festival
DESCRIPTION:VFW Eagle River \nAll Car Clubs Event
URL:http://statestreetrodders.com/event/family-freedom-festival/
LOCATION:VFW\, 10527 VFW Rd.\, Eagle River\,\, AK\, 99577
END:VEVENT
BEGIN:VEVENT
DTSTART;TZID=America/Anchorage:20200613T090000
DTEND;TZID=America/Anchorage:20200613T160000
DTSTAMP:20260422T234324
CREATED:20191021T200349Z
LAST-MODIFIED:20200601T013700Z
UID:544-1592038800-1592064000@statestreetrodders.com
SUMMARY:Canceled Military Appreciation Day
DESCRIPTION:At JBER (Fort Richardson) \nCar\, Motor Cycle Show \nAll Car Clubs Event
URL:http://statestreetrodders.com/event/military-appreciation-day-2/
LOCATION:JBER\, Warrior Zone\, Building 655 Parking Lot\, Anchorage\, AK\, United States
END:VEVENT
BEGIN:VEVENT
DTSTART;TZID=America/Anchorage:20200612T170000
DTEND;TZID=America/Anchorage:20200612T200000
DTSTAMP:20260422T234324
CREATED:20191021T200035Z
LAST-MODIFIED:20200601T012735Z
UID:541-1591981200-1591992000@statestreetrodders.com
SUMMARY:Canceled Colony Days Show and Shine
DESCRIPTION:Downtown Palmer \nAll Car Club Event \nStart setting up at 4:00PM Colony Way closes at 5:00PM.http://statestreetrodders.com/wp-admin/edit-tags.php?taxonomy=post_tag&post_type=tribe_events \nFood Trucks will be available
URL:http://statestreetrodders.com/event/colony-days-show-and-shine/
LOCATION:Downtown Palmer
END:VEVENT
BEGIN:VEVENT
DTSTART;VALUE=DATE:20200607
DTEND;VALUE=DATE:20200608
DTSTAMP:20260422T234324
CREATED:20200221T232926Z
LAST-MODIFIED:20200601T013623Z
UID:660-1591488000-1591574399@statestreetrodders.com
SUMMARY:Canceled Rev Unleaded HP
DESCRIPTION:
URL:http://statestreetrodders.com/event/rev-unleaded-hp/
LOCATION:Menards Event Center\, 1001 S. Clapp St.\, Wasilla\, AK\, 99654\, United States
END:VEVENT
BEGIN:VEVENT
DTSTART;TZID=America/Anchorage:20200517T090000
DTEND;TZID=America/Anchorage:20200517T160000
DTSTAMP:20260422T234324
CREATED:20200221T230635Z
LAST-MODIFIED:20200601T012853Z
UID:647-1589706000-1589731200@statestreetrodders.com
SUMMARY:Canceled\, Classic Cruz
DESCRIPTION:
URL:http://statestreetrodders.com/event/classic-cruz/
LOCATION:Alaska Raceway Park\, 5599 Raceway\, Palmer\, 99645\, United States
ORGANIZER;CN="49th State Street Rodders":MAILTO:ak49statestreetrodders@gmail.com
END:VEVENT
BEGIN:VEVENT
DTSTART;VALUE=DATE:20200501
DTEND;VALUE=DATE:20200504
DTSTAMP:20260422T234324
CREATED:20200221T202005Z
LAST-MODIFIED:20200408T095724Z
UID:629-1588291200-1588550399@statestreetrodders.com
SUMMARY:POSTPONED  Classic Car\, Truck and Cycle Show
DESCRIPTION:
URL:http://statestreetrodders.com/event/classic-car-truck-and-cycle-show/
LOCATION:MTA Event Center in Palmer\, 1317 S. Kerry Weiland Ct.\, Palmer\, AK\, 99645\, United States
END:VEVENT
BEGIN:VEVENT
DTSTART;TZID=America/Anchorage:20200307T133000
DTEND;TZID=America/Anchorage:20200307T143000
DTSTAMP:20260422T234324
CREATED:20200227T004603Z
LAST-MODIFIED:20200227T004603Z
UID:739-1583587800-1583591400@statestreetrodders.com
SUMMARY:Members Meeting
DESCRIPTION:
URL:http://statestreetrodders.com/event/members-meeting/
LOCATION:Journey Church\, 3060 N. Lazy Eight Ct.\, Wasilla\, AK\, 99654\, United States
ORGANIZER;CN="49th State Street Rodders":MAILTO:ak49statestreetrodders@gmail.com
END:VEVENT
BEGIN:VEVENT
DTSTART;TZID=America/Anchorage:20191207T160000
DTEND;TZID=America/Anchorage:20191207T200000
DTSTAMP:20260422T234324
CREATED:20191112T101017Z
LAST-MODIFIED:20191203T021934Z
UID:571-1575734400-1575748800@statestreetrodders.com
SUMMARY:Members Annual Holiday Christmas Party
DESCRIPTION:Pot Luck\, Please bring a salad\, side dish or dessert.  Club is making Turkey and Ham \nChinese Auction to participate please bring a gift.
URL:http://statestreetrodders.com/event/annual-holiday-christmas-party/
LOCATION:Moose Lodge #793\, 1136 S. Cobb St.\, Palmer\, AK\, 99645\, United States
END:VEVENT
BEGIN:VEVENT
DTSTART;TZID=America/Anchorage:20191125T080000
DTEND;TZID=America/Anchorage:20191125T170000
DTSTAMP:20260422T234324
CREATED:20191125T201349Z
LAST-MODIFIED:20191125T230938Z
UID:580-1574668800-1574701200@statestreetrodders.com
SUMMARY:Alyeska Event  Lesson Test.
DESCRIPTION:Join us this weekend \n\n			\n				\n			\n				\n				Regestration\n				\n			\n				\n			\n			\n				\n			\n			\n				\n			\n			\n				\n			\n			\n				\n			\n			\n				\n			\n			\n				\n			\n			\n				\n			\n				\n				John Holcomb
URL:http://statestreetrodders.com/event/test/
LOCATION:AK
END:VEVENT
BEGIN:VEVENT
DTSTART;VALUE=DATE:20190907
DTEND;VALUE=DATE:20190908
DTSTAMP:20260422T234324
CREATED:20190524T021439Z
LAST-MODIFIED:20190524T021439Z
UID:506-1567814400-1567900799@statestreetrodders.com
SUMMARY:Freedom Flag Run Palmer Drag Strip 19th Memorial for 9-11
DESCRIPTION:Sponsored by Palmer Drag Strip & The State Street Rodders. \nDecorate your car with American Flags or Patriotic Memorabilia. \nStage at Wasilla High School around 9 am\, drive to track around 11 am. \nFood Wagon Available and PLEASE bring a side dish or dishes.
URL:http://statestreetrodders.com/event/freedom-flag-run-palmer-drag-strip-19th-memorial-for-9-11/
LOCATION:Wasilla High School\, 701 E Bogard Rd\, Wasilla\, AK\, 99654\, United States
END:VEVENT
BEGIN:VEVENT
DTSTART;TZID=America/Anchorage:20190827T120000
DTEND;TZID=America/Anchorage:20190827T180000
DTSTAMP:20260422T234324
CREATED:20190825T192457Z
LAST-MODIFIED:20190825T192922Z
UID:529-1566907200-1566928800@statestreetrodders.com
SUMMARY:AK State Fair\, Car Club Showing\, Noon to 6:00PM
DESCRIPTION:Our car club has been invited to participate in the Alaska State Fair this year and display some of our members cars.  We have a modest showing this year but hope to be able to show off more of our member cars next year.  We will be at the Yellow entrance back by the Tractor Pull area.
URL:http://statestreetrodders.com/event/car-club-participation/
LOCATION:Alaska State Fair\, Palmer\, AK\, 99645\, United States
END:VEVENT
END:VCALENDAR