BEGIN:VCALENDAR
VERSION:2.0
PRODID:-//49th State Street Rodders - ECPv6.15.20//NONSGML v1.0//EN
CALSCALE:GREGORIAN
METHOD:PUBLISH
X-WR-CALNAME:49th State Street Rodders
X-ORIGINAL-URL:http://statestreetrodders.com
X-WR-CALDESC:Events for 49th State Street Rodders
REFRESH-INTERVAL;VALUE=DURATION:PT1H
X-Robots-Tag:noindex
X-PUBLISHED-TTL:PT1H
BEGIN:VTIMEZONE
TZID:America/Anchorage
BEGIN:DAYLIGHT
TZOFFSETFROM:-0900
TZOFFSETTO:-0800
TZNAME:AKDT
DTSTART:20200308T110000
END:DAYLIGHT
BEGIN:STANDARD
TZOFFSETFROM:-0800
TZOFFSETTO:-0900
TZNAME:AKST
DTSTART:20201101T100000
END:STANDARD
BEGIN:DAYLIGHT
TZOFFSETFROM:-0900
TZOFFSETTO:-0800
TZNAME:AKDT
DTSTART:20210314T110000
END:DAYLIGHT
BEGIN:STANDARD
TZOFFSETFROM:-0800
TZOFFSETTO:-0900
TZNAME:AKST
DTSTART:20211107T100000
END:STANDARD
BEGIN:DAYLIGHT
TZOFFSETFROM:-0900
TZOFFSETTO:-0800
TZNAME:AKDT
DTSTART:20220313T110000
END:DAYLIGHT
BEGIN:STANDARD
TZOFFSETFROM:-0800
TZOFFSETTO:-0900
TZNAME:AKST
DTSTART:20221106T100000
END:STANDARD
BEGIN:DAYLIGHT
TZOFFSETFROM:-0900
TZOFFSETTO:-0800
TZNAME:AKDT
DTSTART:20230312T110000
END:DAYLIGHT
BEGIN:STANDARD
TZOFFSETFROM:-0800
TZOFFSETTO:-0900
TZNAME:AKST
DTSTART:20231105T100000
END:STANDARD
END:VTIMEZONE
BEGIN:VEVENT
DTSTART;TZID=America/Anchorage:20220507T100000
DTEND;TZID=America/Anchorage:20220507T200000
DTSTAMP:20260422T173943
CREATED:20220331T001313Z
LAST-MODIFIED:20220506T051310Z
UID:1749-1651917600-1651953600@statestreetrodders.com
SUMMARY:"Valley Chrome & Wheel" Car and Cycle Show
DESCRIPTION:Today is Day 2 of “Valley Chrome and Wheels” Car and Cycle Show.  At the MTA Event Center and Ice Arena.  We are open today from 10:00am to 8:00pm.   Grizzley Dogs\, Bar-B-Que Man and Exquisite Urban Tastes are the food trucks that will be here today.  They have really great food and have supported our car shows over the years so everyone looks forward to eating with them.  So come on out and enjoy the day and vote for your favorite vehicle. \n\n\n\n1317 S. Kerry Weiland Ct.  Palmer.  Across from Palmer Middle School. \n\n\n\nAnd as always all of our shows are free to attend and free to show your vehicles.
URL:http://statestreetrodders.com/event/valley-chrome-wheel-car-and-cycle-show-2/
END:VEVENT
BEGIN:VEVENT
DTSTART;TZID=America/Anchorage:20220506T160000
DTEND;TZID=America/Anchorage:20220506T200000
DTSTAMP:20260422T173943
CREATED:20220331T000304Z
LAST-MODIFIED:20220331T000305Z
UID:1747-1651852800-1651867200@statestreetrodders.com
SUMMARY:"Valley Chrome & Wheel" Car and Cycle Show
DESCRIPTION:This is day one of our annual 3 day show at the MTA Ice Arena in downtown Palmer.  Matinee starts at 4 PM and runs to 8pm on Friday.  Grizzly Dogs Food truck will be there on Thursday afternoon so have dinner with us. \n\n\n\nLike all of our shows it is free to show your vehicle and attend our shows.  So come on out and enjoy yourself and see some pretty rides. \n\n\n\n1317 S. Kerry Weiland Ct. Palmer\, across from Palmer Middle School.
URL:http://statestreetrodders.com/event/valley-chrome-wheel-car-and-cycle-show/
END:VEVENT
BEGIN:VEVENT
DTSTART;TZID=America/Anchorage:20210911T120000
DTEND;TZID=America/Anchorage:20210911T160000
DTSTAMP:20260422T173943
CREATED:20210908T042307Z
LAST-MODIFIED:20210908T042309Z
UID:1460-1631361600-1631376000@statestreetrodders.com
SUMMARY:Annual 9/11 "Freedom Flag Run"
DESCRIPTION:It’s that time of year again for our annual 9/11 “Freedom Flag Run” memorial and this year the twentieth anniversary of the attack on the Twin Towers falls on 9/11.  Our show will run as usual with everyone meeting up at Wasilla High School around 9:30 AM and decorating their cars with flags and other memorabilia.  Then around 10:30 or 11 AM they will cruise over to Alaska Raceway Park taking a detour along the way off of Bogard Road down Hemmer to drive through the parking lots of both Tranquility Manor Assisted Living and Maple Springs. Then back on to Bogard to come out to the race track for the Car Show from noon to 4:00PM.  \n\n\n\nThis show we will be having 4 Trophies.  People’s Choice 1st\, 2nd and 3rd as well as People’s Choice Motorcycle.  \n\n\n\nStella’s Food truck will be there as well as “Hillbilly Kookin” South Carolina BBQ. \n\n\n\nIf you want to do burn outs make sure you have a helmet and a long sleeve shirt. \n\n\n\nAs with any of our bigger car shows pre-registration helps a lot in making the registration line move fast. Just email or DM me and let me know your name\, make\, model\, and year.  If you are not a 49th State Street Rodders club member don’t forget a contact number. \n\n\n\nHope the weather holds and we have beautiful day and a great show. 
URL:http://statestreetrodders.com/event/annual-9-11-freedom-flag-run/
END:VEVENT
BEGIN:VEVENT
DTSTART;TZID=America/Anchorage:20210829T110000
DTEND;TZID=America/Anchorage:20210829T160000
DTSTAMP:20260422T173943
CREATED:20210826T080658Z
LAST-MODIFIED:20210826T081003Z
UID:1438-1630234800-1630252800@statestreetrodders.com
SUMMARY:Reboot of State Fair Car Show (Not open to new participants)
DESCRIPTION:This is a redo of the State Fair Car Show.  There will be no votes or trophies that was done on the 23rd.  It is a bunch of the original 25 scheduled to show their cars last Monday getting together to show their cars in the sunshine instead of the rain\,  Just getting together for a nice day at the fair enjoying our rides.
URL:http://statestreetrodders.com/event/reboot-of-state-fair-car-show/
END:VEVENT
BEGIN:VEVENT
DTSTART;TZID=America/Anchorage:20210823T110000
DTEND;TZID=America/Anchorage:20210823T150000
DTSTAMP:20260422T173943
CREATED:20210313T072830Z
LAST-MODIFIED:20210806T221044Z
UID:937-1629716400-1629730800@statestreetrodders.com
SUMMARY:State Fair "Possibilities" Car Show
DESCRIPTION:
URL:http://statestreetrodders.com/event/state-fair-possibilities-car-show/
LOCATION:Alaska State Fair\, Palmer\, AK\, 99645\, United States
END:VEVENT
BEGIN:VEVENT
DTSTART;TZID=America/Anchorage:20210821T110000
DTEND;TZID=America/Anchorage:20210821T120000
DTSTAMP:20260422T173943
CREATED:20210313T072233Z
LAST-MODIFIED:20210813T015916Z
UID:930-1629543600-1629547200@statestreetrodders.com
SUMMARY:State Fair Parade
DESCRIPTION:
URL:http://statestreetrodders.com/event/state-fair-parade/
LOCATION:Downtown Palmer
END:VEVENT
BEGIN:VEVENT
DTSTART;TZID=America/Anchorage:20210814T170000
DTEND;TZID=America/Anchorage:20210814T210000
DTSTAMP:20260422T173943
CREATED:20210313T031749Z
LAST-MODIFIED:20210806T220551Z
UID:924-1628960400-1628974800@statestreetrodders.com
SUMMARY:"Hot Summer Nights" Car Show  Downtown Palmer
DESCRIPTION:
URL:http://statestreetrodders.com/event/hot-summer-nights-car-show-downtown-palmer/
LOCATION:Downtown Palmer
END:VEVENT
BEGIN:VEVENT
DTSTART;TZID=America/Anchorage:20210807T110000
DTEND;TZID=America/Anchorage:20210807T150000
DTSTAMP:20260422T173943
CREATED:20210313T030741Z
LAST-MODIFIED:20210806T221624Z
UID:920-1628334000-1628348400@statestreetrodders.com
SUMMARY:State Farm Mike Devine Car Show
DESCRIPTION:
URL:http://statestreetrodders.com/event/state-farm-mike-devine-car-show/
LOCATION:State Farm\, Wasilla\, 2200 E. Parks Hwy\, Wasilla\, AK\, 99645\, United States
END:VEVENT
BEGIN:VEVENT
DTSTART;TZID=America/Anchorage:20210801T090000
DTEND;TZID=America/Anchorage:20210801T170000
DTSTAMP:20260422T173943
CREATED:20210313T031104Z
LAST-MODIFIED:20210313T200819Z
UID:922-1627808400-1627837200@statestreetrodders.com
SUMMARY:Anchorage Park Strip Show-N-Shine Car Show
DESCRIPTION:
URL:http://statestreetrodders.com/event/anchorage-park-strip-show-n-shine-car-show/
LOCATION:Delaney Park Strip Downtown Anchorage\, 6473+5J Downtown\, Anchorage\, AK\, 99501\, United States
END:VEVENT
BEGIN:VEVENT
DTSTART;TZID=America/Anchorage:20210724T110000
DTEND;TZID=America/Anchorage:20210724T150000
DTSTAMP:20260422T173943
CREATED:20210313T030333Z
LAST-MODIFIED:20210719T004247Z
UID:914-1627124400-1627138800@statestreetrodders.com
SUMMARY:Sutton Alpine Historical Society " Valley Trash" Show-N-Shine Car Show
DESCRIPTION:
URL:http://statestreetrodders.com/event/sutton-alpine-historical-society-valley-trash-show-n-shine-car-show/
LOCATION:Sutton Alpine Historical Society\, 643 Daron Rd\, Sutton\, AK\, 99645\, United States
END:VEVENT
BEGIN:VEVENT
DTSTART;TZID=America/Anchorage:20210717T180000
DTEND;TZID=America/Anchorage:20210717T210000
DTSTAMP:20260422T173943
CREATED:20210622T044200Z
LAST-MODIFIED:20210710T171510Z
UID:1115-1626544800-1626555600@statestreetrodders.com
SUMMARY:Bear Paw Festival Car Show Night 2
DESCRIPTION:
URL:http://statestreetrodders.com/event/bear-paw-car-show-night-2/
LOCATION:Chepo’s Eagle River
END:VEVENT
BEGIN:VEVENT
DTSTART;TZID=America/Anchorage:20210716T170000
DTEND;TZID=America/Anchorage:20210716T210000
DTSTAMP:20260422T173943
CREATED:20210313T025421Z
LAST-MODIFIED:20210622T043726Z
UID:912-1626454800-1626469200@statestreetrodders.com
SUMMARY:Bear Paw Festival Car Show Night 1
DESCRIPTION:
URL:http://statestreetrodders.com/event/bear-paw-festival-car-show-2/
END:VEVENT
BEGIN:VEVENT
DTSTART;TZID=America/Anchorage:20210703T100000
DTEND;TZID=America/Anchorage:20210703T200000
DTSTAMP:20260422T173943
CREATED:20210227T061808Z
LAST-MODIFIED:20210806T221151Z
UID:867-1625306400-1625342400@statestreetrodders.com
SUMMARY:Menards Wasilla "Summer Fest"
DESCRIPTION:
URL:http://statestreetrodders.com/event/menards-summer-fest/
LOCATION:Menards Event Center\, 1001 S. Clapp St.\, Wasilla\, AK\, 99654\, United States
END:VEVENT
BEGIN:VEVENT
DTSTART;TZID=America/Anchorage:20210702T160000
DTEND;TZID=America/Anchorage:20210704T160000
DTSTAMP:20260422T173943
CREATED:20210227T061921Z
LAST-MODIFIED:20210612T150807Z
UID:869-1625241600-1625414400@statestreetrodders.com
SUMMARY:Menards Wasilla "Summer Fest"
DESCRIPTION:
URL:http://statestreetrodders.com/event/menards-summer-fest-2/
LOCATION:Menards Event Center\, 1001 S. Clapp St.\, Wasilla\, AK\, 99654\, United States
END:VEVENT
BEGIN:VEVENT
DTSTART;TZID=America/Anchorage:20210702T160000
DTEND;TZID=America/Anchorage:20210702T200000
DTSTAMP:20260422T173943
CREATED:20210227T061509Z
LAST-MODIFIED:20210313T024741Z
UID:862-1625241600-1625256000@statestreetrodders.com
SUMMARY:Menards Wasilla "Summer Fest"
DESCRIPTION:
URL:http://statestreetrodders.com/event/menards-wasilla-summer-fest/
LOCATION:Menards Event Center\, 1001 S. Clapp St.\, Wasilla\, AK\, 99654\, United States
END:VEVENT
BEGIN:VEVENT
DTSTART;TZID=America/Anchorage:20210701T100000
DTEND;TZID=America/Anchorage:20210701T200000
DTSTAMP:20260422T173943
CREATED:20210612T151518Z
LAST-MODIFIED:20210612T151518Z
UID:1101-1625133600-1625169600@statestreetrodders.com
SUMMARY:Menards Move In Day
DESCRIPTION:
URL:http://statestreetrodders.com/event/menards-move-in-day/
LOCATION:Menards Event Center\, 1001 S. Clapp St.\, Wasilla\, AK\, 99654\, United States
END:VEVENT
BEGIN:VEVENT
DTSTART;TZID=America/Anchorage:20210701T100000
DTEND;TZID=America/Anchorage:20210701T200000
DTSTAMP:20260422T173943
CREATED:20210227T062920Z
LAST-MODIFIED:20210227T062920Z
UID:877-1625133600-1625169600@statestreetrodders.com
SUMMARY:Staging for "Summer Fest" Car Show
DESCRIPTION:
URL:http://statestreetrodders.com/event/staging-for-summer-fest-car-show/
END:VEVENT
BEGIN:VEVENT
DTSTART;TZID=America/Anchorage:20210627T120000
DTEND;TZID=America/Anchorage:20210627T160000
DTSTAMP:20260422T173943
CREATED:20210227T055812Z
LAST-MODIFIED:20210621T001902Z
UID:853-1624795200-1624809600@statestreetrodders.com
SUMMARY:Country Cutts Car Show
DESCRIPTION:
URL:http://statestreetrodders.com/event/country-cutts-car-show/
LOCATION:Country Cutts\, 432 s. Alaska St.\, Palmer\, AK\, 99645\, United States
END:VEVENT
BEGIN:VEVENT
DTSTART;TZID=America/Anchorage:20210626T110000
DTEND;TZID=America/Anchorage:20210626T150000
DTSTAMP:20260422T173943
CREATED:20210313T021823Z
LAST-MODIFIED:20210620T063256Z
UID:889-1624705200-1624719600@statestreetrodders.com
SUMMARY:Lowes Car Show
DESCRIPTION:
URL:http://statestreetrodders.com/event/lowes-car-show/
LOCATION:Lowe’s Wasilla\, 2561 E. Sun Mountain Ave.\, Wasilla\, 99654\, United States
END:VEVENT
BEGIN:VEVENT
DTSTART;TZID=America/Anchorage:20210621T170000
DTEND;TZID=America/Anchorage:20210621T210000
DTSTAMP:20260422T173943
CREATED:20210227T061028Z
LAST-MODIFIED:20210607T214930Z
UID:859-1624294800-1624309200@statestreetrodders.com
SUMMARY:Summer Solstice "The Rumble" Notice Schedule Change
DESCRIPTION:
URL:http://statestreetrodders.com/event/solstice-the-rumble/
LOCATION:Mirror Lake\, Alaska
END:VEVENT
BEGIN:VEVENT
DTSTART;TZID=America/Anchorage:20210619T080000
DTEND;TZID=America/Anchorage:20210619T170000
DTSTAMP:20260422T173943
CREATED:20210527T061001Z
LAST-MODIFIED:20210527T061001Z
UID:1093-1624089600-1624122000@statestreetrodders.com
SUMMARY:VW Car Show\, Diamond Center\, Anchorage
DESCRIPTION:Don’t know much at this time will edit as I know more.
URL:http://statestreetrodders.com/event/vw-car-show-diamond-center-anchorage/
END:VEVENT
BEGIN:VEVENT
DTSTART;TZID=America/Anchorage:20210612T110000
DTEND;TZID=America/Anchorage:20210612T160000
DTSTAMP:20260422T173943
CREATED:20210313T020709Z
LAST-MODIFIED:20210612T151845Z
UID:885-1623495600-1623513600@statestreetrodders.com
SUMMARY:Cancelled "Military Appreciation Day"
DESCRIPTION:
URL:http://statestreetrodders.com/event/military-appreciation-day-3/
LOCATION:JBER\, Warrior Zone\, Building 655 Parking Lot\, Anchorage\, AK\, United States
END:VEVENT
BEGIN:VEVENT
DTSTART;TZID=America/Anchorage:20210611T170000
DTEND;TZID=America/Anchorage:20210611T210000
DTSTAMP:20260422T173943
CREATED:20210313T020943Z
LAST-MODIFIED:20210313T203950Z
UID:887-1623430800-1623445200@statestreetrodders.com
SUMMARY:Colony Days Car Show
DESCRIPTION:
URL:http://statestreetrodders.com/event/colony-days-car-show/
LOCATION:Downtown Palmer\, Palmer\, AK\, 99645\, United States
END:VEVENT
BEGIN:VEVENT
DTSTART;TZID=America/Anchorage:20210606T100000
DTEND;TZID=America/Anchorage:20210606T170000
DTSTAMP:20260422T173943
CREATED:20210528T210301Z
LAST-MODIFIED:20210528T210301Z
UID:1095-1622973600-1622998800@statestreetrodders.com
SUMMARY:REV ALASKA Unleashed Auto Show
DESCRIPTION:
URL:http://statestreetrodders.com/event/rev-alaska-unleashed-auto-show/
LOCATION:Menards Event Center\, 1001 S. Clapp St.\, Wasilla\, AK\, 99654\, United States
END:VEVENT
BEGIN:VEVENT
DTSTART;TZID=America/Anchorage:20210605T080000
DTEND;TZID=America/Anchorage:20210605T170000
DTSTAMP:20260422T173943
CREATED:20210227T060619Z
LAST-MODIFIED:20210227T060619Z
UID:856-1622880000-1622912400@statestreetrodders.com
SUMMARY:Thunder Valley Flag Drag
DESCRIPTION:
URL:http://statestreetrodders.com/event/thunder-valley-flag-drag/
LOCATION:Alaska Raceway Park\, 5599 Raceway\, Palmer\, 99645\, United States
END:VEVENT
BEGIN:VEVENT
DTSTART;TZID=America/Anchorage:20210531T120000
DTEND;TZID=America/Anchorage:20210531T160000
DTSTAMP:20260422T173943
CREATED:20210513T161829Z
LAST-MODIFIED:20210516T223540Z
UID:1077-1622462400-1622476800@statestreetrodders.com
SUMMARY:Anchorage Corvette Association Memorial Day Car Show
DESCRIPTION:
URL:http://statestreetrodders.com/event/corvette-club-memorial-day-car-show/
END:VEVENT
BEGIN:VEVENT
DTSTART;TZID=America/Anchorage:20210529T110000
DTEND;TZID=America/Anchorage:20210529T150000
DTSTAMP:20260422T173943
CREATED:20210227T054648Z
LAST-MODIFIED:20210516T224036Z
UID:847-1622286000-1622300400@statestreetrodders.com
SUMMARY:O'Reillys Car Show Palmer
DESCRIPTION:
URL:http://statestreetrodders.com/event/oreillys-car-show-palmer/
LOCATION:O’Reilly”s Palmer\, 401 Glacier View Ave.\, Palmer\, AK\, 99645\, United States
END:VEVENT
BEGIN:VEVENT
DTSTART;TZID=America/Anchorage:20210522T110000
DTEND;TZID=America/Anchorage:20210522T150000
DTSTAMP:20260422T173943
CREATED:20210227T063040Z
LAST-MODIFIED:20210516T224140Z
UID:842-1621681200-1621695600@statestreetrodders.com
SUMMARY:O'Reillys Wasilla Car Show
DESCRIPTION:
URL:http://statestreetrodders.com/event/oreillys-wasilla-car-show-2/
LOCATION:O Reilly Auto Parts – Wasilla\, 231 E Parks Highway\, Wasilla\, AK\, 99654\, United States
END:VEVENT
BEGIN:VEVENT
DTSTART;TZID=America/Anchorage:20210508T090000
DTEND;TZID=America/Anchorage:20210508T160000
DTSTAMP:20260422T173943
CREATED:20210227T055347Z
LAST-MODIFIED:20210504T101543Z
UID:850-1620464400-1620489600@statestreetrodders.com
SUMMARY:Klassic Kruz and Car Show
DESCRIPTION:
URL:http://statestreetrodders.com/event/classic-cruz-and-car-show/
LOCATION:Alaska Raceway Park\, 5599 Raceway\, Palmer\, 99645\, United States
END:VEVENT
BEGIN:VEVENT
DTSTART;TZID=America/Anchorage:20210502T120000
DTEND;TZID=America/Anchorage:20210502T160000
DTSTAMP:20260422T173943
CREATED:20210227T051336Z
LAST-MODIFIED:20210227T053033Z
UID:829-1619956800-1619971200@statestreetrodders.com
SUMMARY:MTA Event Center "Valley Chrome & Wheel" Car Show
DESCRIPTION:
URL:http://statestreetrodders.com/event/mta-event-center-valley-chrome-wheel-car-show/
LOCATION:MTA Event Center in Palmer\, 1317 S. Kerry Weiland Ct.\, Palmer\, AK\, 99645\, United States
END:VEVENT
END:VCALENDAR