BEGIN:VCALENDAR
VERSION:2.0
PRODID:-//49th State Street Rodders - ECPv6.15.20//NONSGML v1.0//EN
CALSCALE:GREGORIAN
METHOD:PUBLISH
X-WR-CALNAME:49th State Street Rodders
X-ORIGINAL-URL:http://statestreetrodders.com
X-WR-CALDESC:Events for 49th State Street Rodders
REFRESH-INTERVAL;VALUE=DURATION:PT1H
X-Robots-Tag:noindex
X-PUBLISHED-TTL:PT1H
BEGIN:VTIMEZONE
TZID:America/Anchorage
BEGIN:DAYLIGHT
TZOFFSETFROM:-0900
TZOFFSETTO:-0800
TZNAME:AKDT
DTSTART:20230312T110000
END:DAYLIGHT
BEGIN:STANDARD
TZOFFSETFROM:-0800
TZOFFSETTO:-0900
TZNAME:AKST
DTSTART:20231105T100000
END:STANDARD
BEGIN:DAYLIGHT
TZOFFSETFROM:-0900
TZOFFSETTO:-0800
TZNAME:AKDT
DTSTART:20240310T110000
END:DAYLIGHT
BEGIN:STANDARD
TZOFFSETFROM:-0800
TZOFFSETTO:-0900
TZNAME:AKST
DTSTART:20241103T100000
END:STANDARD
BEGIN:DAYLIGHT
TZOFFSETFROM:-0900
TZOFFSETTO:-0800
TZNAME:AKDT
DTSTART:20250309T110000
END:DAYLIGHT
BEGIN:STANDARD
TZOFFSETFROM:-0800
TZOFFSETTO:-0900
TZNAME:AKST
DTSTART:20251102T100000
END:STANDARD
BEGIN:DAYLIGHT
TZOFFSETFROM:-0900
TZOFFSETTO:-0800
TZNAME:AKDT
DTSTART:20260308T110000
END:DAYLIGHT
BEGIN:STANDARD
TZOFFSETFROM:-0800
TZOFFSETTO:-0900
TZNAME:AKST
DTSTART:20261101T100000
END:STANDARD
END:VTIMEZONE
BEGIN:VEVENT
DTSTART;TZID=America/Anchorage:20250906T120000
DTEND;TZID=America/Anchorage:20250906T160000
DTSTAMP:20260422T142722
CREATED:20250313T224920Z
LAST-MODIFIED:20250902T183953Z
UID:2754-1757160000-1757174400@statestreetrodders.com
SUMMARY:"Freedom Flag Run"
DESCRIPTION:The 49th State Street Rodders Proudly present our annual 9/11 Memorial \n\n\n\nCar Show the “Freedom Flag Run”. Saturday\, September 6th\, 2025.  I can’t believe the summer car show season is over already.  Seems like it just began. Our last show of the season will run as usual with everyone who wishes meeting up at Wasilla High School around 10:00 AM and decorating their cars with flags and other memorabilia. Then around 11:00 AM they will cruise over to Alaska Raceway Park taking a detour along the way off of Bogard Road down E. Palmer Moose Dr. to Hemmer to drive through the parking lots of both Tranquility Manor Assisted Living and Maple Springs. Then back on Hemmer to E. Palmer Moose Dr. to return to Bogard to come out to the racetrack\, 5599 S. Race Way for the Car Show from noon to 4:00PM. \n\n\n\nAs with any of our bigger car shows pre-registration helps a lot in making the registration line move fast. Just email or DM me and let me know your name\, make\, model\, and year. If you are not a 49th State Street Rodders club member don’t forget a contact number. \n\n\n\nExquisite Urban Tastes will be the food trucks serving their expanded menu of tasty food.  \n\n\n\nAs with all of our shows it is Free to participate and Free to attend so don’t get scammed by someone that says you need to pay to register either pre or late.  If you don’t want a voting number\, you don’t need to have one\, just let me know at sign in\, but you MUST register if you bring a vehicle to show. All our shows are Rain or Shine\, and you must be present at the end to win.Hoping the weather will be beautiful for our last car show of 2024.    Hope to see you all there.
URL:http://statestreetrodders.com/event/freedom-flag-run-5/
END:VEVENT
BEGIN:VEVENT
DTSTART;TZID=America/Anchorage:20250823T110000
DTEND;TZID=America/Anchorage:20250823T150000
DTSTAMP:20260422T142722
CREATED:20250725T040553Z
LAST-MODIFIED:20250818T173245Z
UID:2882-1755946800-1755961200@statestreetrodders.com
SUMMARY:"1st Annual Valley Country Store" Car Show
DESCRIPTION:This coming Saturday we have our very first “Annual Valley Country Store #3 Car Show”.  We are all excited to add this show to our schedule.  The date is Saturday August 23rd.  The time is 11:00am to 3:00pm and the place is 4544 N. Trunk Rd. Corner of Trunk and Palmer Fishhook.  Northern Sno will be there with their delicious\, shaved Ice and treats.  Valley Country Store will have hotdogs and probably something else from their expanded store menu.  They have good food.  We will be giving out our People’s Choice trophies\, remember you must be present to win.  So\, Rain or Shine we will be there and the future weather report looks good for Saturday.  Hope to see you there.
URL:http://statestreetrodders.com/event/1st-annual-valley-country-store-car-show/
END:VEVENT
BEGIN:VEVENT
DTSTART;TZID=America/Anchorage:20250817T110000
DTEND;TZID=America/Anchorage:20250817T170000
DTSTAMP:20260422T142722
CREATED:20250313T223504Z
LAST-MODIFIED:20250812T205850Z
UID:2750-1755428400-1755450000@statestreetrodders.com
SUMMARY:Great News! This event has been reinstated.  Alaska State Fair Car Show
DESCRIPTION:After much go around an some miss communication we are back on for our State Fair Car Show.  It will be a day early than before Sunday August 17th and will be along the Yellow Gate entrance where we have been in the past.  We will still have voting and a Trophy for People’s Choice.  So come on out and enjoy a day at the fair and check out our show.
URL:http://statestreetrodders.com/event/alaska-state-fair-car-show-3/
END:VEVENT
BEGIN:VEVENT
DTSTART;TZID=America/Anchorage:20250809T170000
DTEND;TZID=America/Anchorage:20250809T210000
DTSTAMP:20260422T142722
CREATED:20250313T223213Z
LAST-MODIFIED:20250721T202905Z
UID:2746-1754758800-1754773200@statestreetrodders.com
SUMMARY:"Hot Summer Nights" Car Show
DESCRIPTION:Saturday August 9th\, 2024\, is “Hot Summer Nights” in downtown Palmer on S. Colony Way and beyond from 5:00 to 9:00pm.  Exquisite Urban Tastes Food Trucks plan to be there to offer their delicious food.  Let’s hope that the weather is beautiful but as with all our shows it is “Rain or Shine” we will be there.  And remember you MUST BE PRESENT TO WIN so if you have a hot vehicle don’t duck out early.  I also STRONGLY suggest that you pre-register.  If the weather is beautiful\, we could have up to 100 vehicles\, and the line gets long at check in.  Just message or email me your name\, the Make/Model/Year of your vehicle\, and contact number and any information you want on the card for the public to know about your vehicle.  If you don’t want anyone to vote on your vehicle\, that’s fine\, just let me know and I will not give you a vehicle tag\, but you must register to show your vehicle.  Here’s to a gorgeous night in downtown Palmer with the streets lined with beautiful vehicles and people enjoying themselves on a “Hot Summer Night”
URL:http://statestreetrodders.com/event/hot-summer-nights-car-show-2/
END:VEVENT
BEGIN:VEVENT
DTSTART;TZID=America/Anchorage:20250726T110000
DTEND;TZID=America/Anchorage:20250726T150000
DTSTAMP:20260422T142722
CREATED:20250403T233940Z
LAST-MODIFIED:20250709T203559Z
UID:2770-1753527600-1753542000@statestreetrodders.com
SUMMARY:This show has been canceled 7/8/25.  Palmer Senior Center Car Show & Craft Fair
DESCRIPTION:More information is coming.
URL:http://statestreetrodders.com/event/palmer-senior-center-car-show-craft-fair/
END:VEVENT
BEGIN:VEVENT
DTSTART;TZID=America/Anchorage:20250719T110000
DTEND;TZID=America/Anchorage:20250719T150000
DTSTAMP:20260422T142722
CREATED:20250313T222357Z
LAST-MODIFIED:20250714T202539Z
UID:2743-1752922800-1752937200@statestreetrodders.com
SUMMARY:"Valley Trash" Show & Shine Car Show
DESCRIPTION:Saturday July 19th is the “Valley Trash” Show & Shine Car Show from 11:00am to 3:00pm at the Sutton Alpine Historical Society. This is a fundraiser to raise money for maintenance for the buildings. The Historical Society offers Hot Dogs and Hamburgers for a donation and many people bring side dishes to share. After the show there is a dessert auction. This is a very popular show and people come from all over the state to attend and show their vehicles. Last year we even had two vehicles from South America. Sutton Alpine Historical Society Sutton AK 99674 Chickaloon Mile 66.6 North Glenn Hwy. Remember with all of our shows they are free to attend and free to enter and you must be present to win.  Rain or Shine we will be there\, so we hope to see you.
URL:http://statestreetrodders.com/event/valley-trash-show-shine-car-show/
END:VEVENT
BEGIN:VEVENT
DTSTART;TZID=America/Anchorage:20250713T120000
DTEND;TZID=America/Anchorage:20250713T160000
DTSTAMP:20260422T142722
CREATED:20250313T205626Z
LAST-MODIFIED:20250709T204404Z
UID:2741-1752408000-1752422400@statestreetrodders.com
SUMMARY:"County Cutts" Car Show
DESCRIPTION:49th State Street Rodders Annual Country Cutts Car Show Sunday July 13h from Noon to 4:00pm. The address is 432 S. Alaska Street Downtown Palmer. As with all our shows it is free to enter a vehicle and free to attend but you must be preset to win. Exquisite Urban Tastes is the Food Truck coming out. As usual Stan will have trophies and give aways\, but you must be present to win.  So come on out we will be there rain or shine. 
URL:http://statestreetrodders.com/event/county-cutts-car-show/
END:VEVENT
BEGIN:VEVENT
DTSTART;TZID=America/Anchorage:20250712T110000
DTEND;TZID=America/Anchorage:20250712T150000
DTSTAMP:20260422T142722
CREATED:20250320T020329Z
LAST-MODIFIED:20250709T203458Z
UID:2763-1752318000-1752332400@statestreetrodders.com
SUMMARY:Alyeska Tire Car Show
DESCRIPTION:This coming weekend we have the Alyeska Tire Car Show Saturday July 12th from 11:00am to 3:00pm.  They haven’t had a show since the pandemic.  It is nice to have them back. Their address is 7260 Schelin Spur off the Palmer Wasilla Hwy.  Exquisite Urban Tastes will be the food truck.  As with all our shows entry is free and it is free to attend but you must be present to win.  Rain or shine we will be there. \n\n\n\n    
URL:http://statestreetrodders.com/event/alyeska-tire-car-show-2/
END:VEVENT
BEGIN:VEVENT
DTSTART;TZID=America/Anchorage:20250628T110000
DTEND;TZID=America/Anchorage:20250628T150000
DTSTAMP:20260422T142722
CREATED:20250313T205425Z
LAST-MODIFIED:20250622T011733Z
UID:2739-1751108400-1751122800@statestreetrodders.com
SUMMARY:Annual Art Keller Memorial Car Show
DESCRIPTION:Saturday June 28th\, 2025 is the 49th State Street Rodders\, 4th Annual “Art Keller Memorial Car Show” during the Freedom Family Festival at VFW Post 9785 in Eagle River.  The car show is from 11:00am to 3:00pm. \n\n\n\nThere will be kid’s activities\, craft vendors\, a 5K run\, free hot dogs and chips (Donations appreciated).  The address is 10527 VFW Rd. Eagle River\, AK. We are looking forward to some more beautiful sunny days so come on out and enjoy the day with us.
URL:http://statestreetrodders.com/event/annual-art-keller-memorial-car-show/
END:VEVENT
BEGIN:VEVENT
DTSTART;TZID=America/Anchorage:20250620T170000
DTEND;TZID=America/Anchorage:20250620T210000
DTSTAMP:20260422T142722
CREATED:20250313T225849Z
LAST-MODIFIED:20250313T225852Z
UID:2761-1750438800-1750453200@statestreetrodders.com
SUMMARY:"The Rumble" Solstice Car Show
DESCRIPTION:Midnight Sun Street Rod Association summer solstice show at Mirror Lake “The Rumble”.  More information to come.
URL:http://statestreetrodders.com/event/the-rumble-solstice-car-show/
END:VEVENT
BEGIN:VEVENT
DTSTART;TZID=America/Anchorage:20250614T100000
DTEND;TZID=America/Anchorage:20250614T150000
DTSTAMP:20260422T142722
CREATED:20250313T225336Z
LAST-MODIFIED:20250313T225339Z
UID:2759-1749895200-1749913200@statestreetrodders.com
SUMMARY:VW "Family Reunion" Car Show
DESCRIPTION:More information will be available as we get closer to the date.
URL:http://statestreetrodders.com/event/vw-family-reunion-car-show/
END:VEVENT
BEGIN:VEVENT
DTSTART;TZID=America/Anchorage:20250524T110000
DTEND;TZID=America/Anchorage:20250524T150000
DTSTAMP:20260422T142722
CREATED:20250313T205043Z
LAST-MODIFIED:20250518T202302Z
UID:2736-1748084400-1748098800@statestreetrodders.com
SUMMARY:"O'Reilly Auto Parts" Palmer Car Show
DESCRIPTION:Come on out and join us this coming Saturday May 24th for the annual 49th State Street Rodders car show at O’Reilly Auto Parts in Palmer.  11:00am to 3:00pm at 401 Glacier View Ave\, Palmer\, AK 99645. Downtown Palmer along the Glenn Hwy. Exquisite Urban Tastes is the scheduled food truck with their delicious food and the weather report is for the low 60’s and sunny.  Who could ask for more!  O’Reilly Auto Parts has some awards to give out and buckets of supplies. So come on out and join us for a day of fun and beautiful cars.  As always all 49th State Street Rodders events are free to attend and free to show but you must register your vehicle and you must be present to win.  So rain or shine\, preferably shine\, we will be there so come and join us.
URL:http://statestreetrodders.com/event/oreilly-auto-parts-palmer-car-show-2/
END:VEVENT
BEGIN:VEVENT
DTSTART;TZID=America/Anchorage:20250517T110000
DTEND;TZID=America/Anchorage:20250517T150000
DTSTAMP:20260422T142722
CREATED:20250313T204345Z
LAST-MODIFIED:20250313T204348Z
UID:2733-1747479600-1747494000@statestreetrodders.com
SUMMARY:"O'Reilly Auto Parts" Car Show Wasilla
DESCRIPTION:Car Show O’Reilly Auto Parts Wasilla AK Store.  11:00am to 3:00pm. 213 E. Parks Hwy Wasilla\, AK 99654.  This is a very popular show\, and we usually have a big turnout of both those showing their vehicles and those coming to look at them. Alaska’s Best Gourmet Dog is the food truck providing their tasty dogs for the afternoon. Remember with all of our shows they are rain or shine\, and you must be present to win.
URL:http://statestreetrodders.com/event/oreilly-auto-parts-car-show-wasilla/
END:VEVENT
BEGIN:VEVENT
DTSTART;TZID=America/Anchorage:20250510T120000
DTEND;TZID=America/Anchorage:20250510T160000
DTSTAMP:20260422T142722
CREATED:20250313T203522Z
LAST-MODIFIED:20250505T195613Z
UID:2730-1746878400-1746892800@statestreetrodders.com
SUMMARY:"Klassic Kruz"& Swap Meet
DESCRIPTION:“Klassic Kruz” & Swap Meet. May 10th. This is the time to start cleaning out all those left over parts and bits that are cluttering up the place and are just what someone else is looking for. The 49th State Street Rodders present “Klassic Kruz” Car Show and Swap Meet this coming weekend May 10th 2025.  Come Kruz with us. Meet up at the Fred Meyer store in Eagle River in the parking lot around 10:30 and cruise out to Alaska Raceway Park for the Car Show. Should be leaving Fred Meyer at around 11:00am. If you don’t want to cruise but just show your vehicle and attend the Swap Meet the car show starts at Noon and runs to 4:00pm. The food truck will be Exquisite Urban Taste serving their delicious food. \n\n\n\n49th State Street Rodders Car Shows admission and participation is always Free\, but you must register your vehicle if you are in the lot and you must be present to win a trophy. So\, start cleaning out those parts you want to get rid of and bring them to the Swap Meet. \n\n\n\nFred Meyer Eagle River 13401 Old Glenn Hwy. Eagle River\, AK. 99577. Alaska Raceway Park 5599 Raceway Palmer\, Alaska 99645 Mile 10.4 Old Glenn Hwy. \n\n\n\nHope to see you there for a fun day of swapping parts and stories. Remember with all of our shows they are rain or shine\, and you must be present to win.
URL:http://statestreetrodders.com/event/klassic-kruz-swap-meet-3/
END:VEVENT
BEGIN:VEVENT
DTSTART;TZID=America/Anchorage:20250504T100000
DTEND;TZID=America/Anchorage:20250504T160000
DTSTAMP:20260422T142722
CREATED:20250313T201300Z
LAST-MODIFIED:20250313T201305Z
UID:2728-1746352800-1746374400@statestreetrodders.com
SUMMARY:"Valley Chrome & Wheel" Car Show
DESCRIPTION:“Valley Chrome & Wheel” Car Show.  1317 Kerry Weiland Way\, Palmer AK 99645.  Today is the final day to view these beautiful vehicles.  We are open from 10:00am to 4:00pm.  Exquisite Urban Taste is the food truck that will be there to offer their delicious food.  Also\, the Palmer Air Show is this weekend so take advantage of the shuttle bus Palmer is running between the venues and enjoy a fun day in Palmer.
URL:http://statestreetrodders.com/event/valley-chrome-wheel-car-show-6/
END:VEVENT
BEGIN:VEVENT
DTSTART;TZID=America/Anchorage:20250503T100000
DTEND;TZID=America/Anchorage:20250503T200000
DTSTAMP:20260422T142722
CREATED:20250313T200932Z
LAST-MODIFIED:20250313T200936Z
UID:2726-1746266400-1746302400@statestreetrodders.com
SUMMARY:"Valley Chrome & Wheel" Car Show
DESCRIPTION:“Valley Chrome & Wheel” Car Show.  1317 Kerry Weiland Way\, Palmer AK 99645.  Today is a full day of viewing beautiful vehicles.  We are open from 10:00am to 8:00pm.  Exquisite Urban Taste is the food truck that will be there to offer their delicious food.  Also\, the Palmer Air Show is this weekend so take advantage of the shuttle bus Palmer is running between the venues and enjoy a fun filled day in Palmer.
URL:http://statestreetrodders.com/event/valley-chrome-wheel-car-show-5/
END:VEVENT
BEGIN:VEVENT
DTSTART;TZID=America/Anchorage:20250502T160000
DTEND;TZID=America/Anchorage:20250502T200000
DTSTAMP:20260422T142722
CREATED:20250313T200146Z
LAST-MODIFIED:20250313T200150Z
UID:2724-1746201600-1746216000@statestreetrodders.com
SUMMARY:"Valley Chrome & Wheel" Car Show
DESCRIPTION:May 2 is the first day we are open to the public. Matinee Car Show opens at 4:00pm until 8:00pm.  1317 Kerry Weiland Way Palmer\, AK 99645
URL:http://statestreetrodders.com/event/valley-chrome-wheel-car-show-4/
END:VEVENT
BEGIN:VEVENT
DTSTART;TZID=America/Anchorage:20250501T110000
DTEND;TZID=America/Anchorage:20250501T200000
DTSTAMP:20260422T142722
CREATED:20250313T195620Z
LAST-MODIFIED:20250313T195623Z
UID:2720-1746097200-1746129600@statestreetrodders.com
SUMMARY:"Valley Chrome & Wheel" Car Show
DESCRIPTION:May 1st is staging day from 11:00am till 8:00pm.  1317 Kerry Weiland Way\, Palmer AK 99645.  Across from Palmer Middle School.  If you can’t make it during these hours\, contact us before May 1st by email to arrange for a different time.  We have approximately 50 spaces for vehicles and can fit in a couple of extra motorcycles in odd spots.  Preregistration is important because of limited space so it will be first come first serve.  Preregister by email.
URL:http://statestreetrodders.com/event/valley-chrome-wheel-car-show-3/
END:VEVENT
BEGIN:VEVENT
DTSTART;TZID=America/Anchorage:20240907T120000
DTEND;TZID=America/Anchorage:20240907T160000
DTSTAMP:20260422T142722
CREATED:20240121T013812Z
LAST-MODIFIED:20240902T222519Z
UID:2557-1725710400-1725724800@statestreetrodders.com
SUMMARY:Freedom Flag Run
DESCRIPTION:The 49th State Street Rodders Proudly present our annual 9/11 Memorial \n\n\n\nCar Show the “Freedom Flag Run”. Saturday\, September 7th\, 2024.  I can’t believe the summer car show season is over already.  Seems like it just began. Our show will run as usual with everyone who wishes meeting up at Wasilla High School around 10:00 AM and decorating their cars with flags and other memorabilia. Then around 11:00 AM they will cruise over to Alaska Raceway Park taking a detour along the way off of Bogard Road down Hemmer to drive through the parking lots of both Tranquility Manor Assisted Living and Maple Springs. Then back on Hemmer to Bogard to come out to the racetrack\, 5599 S. Race Way for the Car Show from noon to 4:00PM. \n\n\n\nAs with any of our bigger car shows pre-registration helps a lot in making the registration line move fast. Just email or DM me and let me know your name\, make\, model\, and year. If you are not a 49th State Street Rodders club member don’t forget a contact number. \n\n\n\nExquisite Urban Tastes will be the food trucks serving their tasty food.  \n\n\n\nAs with all of our shows it is free to participate and free to attend.  If you don’t want a voting number\, you don’t need to have one\, but you Must register if you bring a vehicle to show. All our shows are Rain or Shine\, and you must be present at the end to win.Hope the weather will be beautiful for our last car show of 2024.    Hope to see you all there.
URL:http://statestreetrodders.com/event/freedom-flag-run-4/
END:VEVENT
BEGIN:VEVENT
DTSTART;TZID=America/Anchorage:20240819T120000
DTEND;TZID=America/Anchorage:20240819T120000
DTSTAMP:20260422T142722
CREATED:20240121T013320Z
LAST-MODIFIED:20240121T013321Z
UID:2555-1724068800-1724068800@statestreetrodders.com
SUMMARY:Alaska State Fair Car Show
DESCRIPTION:Fair Grounds Palmer\, Yellow Entrance\,   \n\n\n\nJoint show 49th State Street Rodders and Midnight Sun Street Rod Car Club. There are limited number   \n\n\n\nof entries so preregistering is a must.   \n\n\n\nI will update as we get closer to the event.
URL:http://statestreetrodders.com/event/alaska-state-fair-car-show-2/
END:VEVENT
BEGIN:VEVENT
DTSTART;TZID=America/Anchorage:20240817T083000
DTEND;TZID=America/Anchorage:20240817T120000
DTSTAMP:20260422T142722
CREATED:20240121T012524Z
LAST-MODIFIED:20240205T041906Z
UID:2551-1723883400-1723896000@statestreetrodders.com
SUMMARY:Alaska State Fair Parade
DESCRIPTION:STATE FAIR PARADE\, Palmer Pre-stage at 8:30 behind depot.  Parade starts at 11:00AM \n\n\n\n– Antique Auto Mushers Car Show at the Palmer Fairgrounds after the Parade\, Yellow Entrance \n\n\n\nI will update as we get closer to event.
URL:http://statestreetrodders.com/event/state-fair-parade-2/
END:VEVENT
BEGIN:VEVENT
DTSTART;TZID=America/Anchorage:20240810T170000
DTEND;TZID=America/Anchorage:20240810T210000
DTSTAMP:20260422T142722
CREATED:20240430T015704Z
LAST-MODIFIED:20240807T024804Z
UID:2611-1723309200-1723323600@statestreetrodders.com
SUMMARY:"Hot Summer Nights"
DESCRIPTION:Summer is moving along fast\, and it is about time for “Hot Summer Nights” Car Show in downtown Palmer.  Saturday August 10th\, 2024\, from 5:00pm to 9:00pm duration is dependent on the weather.  If it is pouring down rain and people are leaving\, we will shut down early.  Remember you must be present to win.  Everyone is welcome as all our shows are free to attend and free to enter.  You must register your vehicle though.  If you don’t want anyone to vote for you either fill out the information card and leave the number blank or don’t post the card at all. \n\n\n\nSea Garden and Exquisite Urban Taste are the food trucks that will be there. \n\n\n\nSo come on out to Downtown Palmer to check out our beautiful vehicles.
URL:http://statestreetrodders.com/event/hot-summer-nights-3/
END:VEVENT
BEGIN:VEVENT
DTSTART;TZID=America/Anchorage:20240803T110000
DTEND;TZID=America/Anchorage:20240803T140000
DTSTAMP:20260422T142722
CREATED:20240121T012221Z
LAST-MODIFIED:20240524T200136Z
UID:2549-1722682800-1722693600@statestreetrodders.com
SUMMARY:Cancelled!!    State Farm Car Show
DESCRIPTION:Mike Devine State Farm Event.  2200 E. Parks Hwy\, Wasilla 99654 \n\n\n\nI was notified on May 22 that Mike DeVine State Farm will no longer be hosting this car show and asked to remove it from the Calander. I am noting that it is cancelled in case that removing it will just make people think I have forgotten it\, and it is still going on.
URL:http://statestreetrodders.com/event/state-farm-car-show-2/
END:VEVENT
BEGIN:VEVENT
DTSTART;TZID=America/Anchorage:20240727T110000
DTEND;TZID=America/Anchorage:20240727T150000
DTSTAMP:20260422T142722
CREATED:20240121T011951Z
LAST-MODIFIED:20240720T204317Z
UID:2547-1722078000-1722092400@statestreetrodders.com
SUMMARY:Valley Trash Show & Shine
DESCRIPTION:Summer is moving along fast\, and it is time for the 49th State Street Rodders annual “Valley Trash” Show & Shine Car Show at the Sutton Historical Society this coming Saturday July 27\, 2024\, from 11:00am to 3:00pm.  At 643 Daron Rd. Sutton\, AK. Chickaloon Mile 61.6 North Glenn Hwy.  The Historical Society will have a Dessert Auction to raise money for upkeep of the park and hamburgers and hotdogs for donation.  As well as the beautiful vehicles we normally have at our show Vernon L. Nash Auto Club’s “Adventure Before Dementia” Tour will have a dozen or so cars attending from Fairbanks. This year instead of our regular 1st\, 2nd and 3rd trophies we have Best in Show\, Survivor Class\, for those vehicles original and not modified and we have Orphan Class for those vehicles that are no longer made.  We also have a trophy for “Came the Farthest”. So come on out and enjoy the day with us and help raise money for the historical society.  As of this posting the weather app says it will be in the mid 60’s and partly cloudy.  As with all of the 49th State Street Rodders Car Shows admission is free and it is free to show your vehicle\, you MUST be present to win\, and we will be there rain or shine. \n\n\n\n SUTTON ALPINE HISTORICAL CENTER “VALLEY TRASH” SHOW & SHINE CAR SHOW \n\n\n\n643 Daron Rd. Sutton\, 99645 Chickaloon Mile 61.6 North Glenn Hwy. This is a 49th State Street Rodders Car Show. \n\n\n\nThis is a 49th State Street Rodder event.  as all of our events it is free to enter and free to attend.  Rain or Shine.
URL:http://statestreetrodders.com/event/valley-trash-show-shine/
END:VEVENT
BEGIN:VEVENT
DTSTART;TZID=America/Anchorage:20240720T110000
DTEND;TZID=America/Anchorage:20240720T150000
DTSTAMP:20260422T142722
CREATED:20240619T092008Z
LAST-MODIFIED:20240629T071911Z
UID:2684-1721473200-1721487600@statestreetrodders.com
SUMMARY:Canceled  Palmer Senior Center Car Show
DESCRIPTION:I was informed by the Palmer Senior Center tonight 6/28/24 that the events at the Palmer Senior Center on July 13th have been canceled.  This includes the car show.
URL:http://statestreetrodders.com/event/palmer-senior-center-car-show/
END:VEVENT
BEGIN:VEVENT
DTSTART;TZID=America/Anchorage:20240713T110000
DTEND;TZID=America/Anchorage:20240713T150000
DTSTAMP:20260422T142722
CREATED:20240226T101243Z
LAST-MODIFIED:20240619T091054Z
UID:2573-1720868400-1720882800@statestreetrodders.com
SUMMARY:Lowe's Wasilla Car Show
DESCRIPTION:
URL:http://statestreetrodders.com/event/lowes-wasilla-car-show-2/
END:VEVENT
BEGIN:VEVENT
DTSTART;TZID=America/Anchorage:20240707T120000
DTEND;TZID=America/Anchorage:20240707T160000
DTSTAMP:20260422T142722
CREATED:20240619T091348Z
LAST-MODIFIED:20240619T091349Z
UID:2678-1720353600-1720368000@statestreetrodders.com
SUMMARY:Country Cutts
DESCRIPTION:
URL:http://statestreetrodders.com/event/country-cutts-3/
END:VEVENT
BEGIN:VEVENT
DTSTART;TZID=America/Anchorage:20240706T110000
DTEND;TZID=America/Anchorage:20240706T150000
DTSTAMP:20260422T142722
CREATED:20240130T203751Z
LAST-MODIFIED:20240619T090848Z
UID:2568-1720263600-1720278000@statestreetrodders.com
SUMMARY:Swickard GMC
DESCRIPTION:New car show this year.
URL:http://statestreetrodders.com/event/swickard-gmc/
END:VEVENT
BEGIN:VEVENT
DTSTART;TZID=America/Anchorage:20240622T110000
DTEND;TZID=America/Anchorage:20240622T150000
DTSTAMP:20260422T142722
CREATED:20240121T011408Z
LAST-MODIFIED:20240619T090640Z
UID:2544-1719054000-1719068400@statestreetrodders.com
SUMMARY:"Art Keller Memorial Car Show" VFW Family Freedom Festival
DESCRIPTION:“Art Keller Memorial Car Show” Freedom Family Festival- VFW Auxiliary VFW Post 9785\, 10527 VFW Rd. Eagle River\, AK. 99577.The Car Show is a 49th State Street Rodders Event. \n\n\n\nAs always all 49th State Street Rodders events are free to attend and free to show your vehicles. \n\n\n\nAll shows are Rain or Shine.
URL:http://statestreetrodders.com/event/2544/
END:VEVENT
BEGIN:VEVENT
DTSTART;TZID=America/Anchorage:20240620T180000
DTEND;TZID=America/Anchorage:20240620T210000
DTSTAMP:20260422T142722
CREATED:20240121T011107Z
LAST-MODIFIED:20240619T090451Z
UID:2542-1718906400-1718917200@statestreetrodders.com
SUMMARY:Solstice Rumble
DESCRIPTION:Solstice Rumble at Mirror Lake.  This is a Midnight Sun Street Rod Car Club Event.
URL:http://statestreetrodders.com/event/solstice-rumble/
END:VEVENT
END:VCALENDAR