BEGIN:VCALENDAR
VERSION:2.0
PRODID:-//49th State Street Rodders - ECPv6.15.20//NONSGML v1.0//EN
CALSCALE:GREGORIAN
METHOD:PUBLISH
X-ORIGINAL-URL:http://statestreetrodders.com
X-WR-CALDESC:Events for 49th State Street Rodders
REFRESH-INTERVAL;VALUE=DURATION:PT1H
X-Robots-Tag:noindex
X-PUBLISHED-TTL:PT1H
BEGIN:VTIMEZONE
TZID:America/Anchorage
BEGIN:DAYLIGHT
TZOFFSETFROM:-0900
TZOFFSETTO:-0800
TZNAME:AKDT
DTSTART:20230312T110000
END:DAYLIGHT
BEGIN:STANDARD
TZOFFSETFROM:-0800
TZOFFSETTO:-0900
TZNAME:AKST
DTSTART:20231105T100000
END:STANDARD
BEGIN:DAYLIGHT
TZOFFSETFROM:-0900
TZOFFSETTO:-0800
TZNAME:AKDT
DTSTART:20240310T110000
END:DAYLIGHT
BEGIN:STANDARD
TZOFFSETFROM:-0800
TZOFFSETTO:-0900
TZNAME:AKST
DTSTART:20241103T100000
END:STANDARD
BEGIN:DAYLIGHT
TZOFFSETFROM:-0900
TZOFFSETTO:-0800
TZNAME:AKDT
DTSTART:20250309T110000
END:DAYLIGHT
BEGIN:STANDARD
TZOFFSETFROM:-0800
TZOFFSETTO:-0900
TZNAME:AKST
DTSTART:20251102T100000
END:STANDARD
END:VTIMEZONE
BEGIN:VEVENT
DTSTART;TZID=America/Anchorage:20240610T080000
DTEND;TZID=America/Anchorage:20240615T170000
DTSTAMP:20260423T032914
CREATED:20240226T101434Z
LAST-MODIFIED:20240226T101435Z
UID:2575-1718006400-1718470800@statestreetrodders.com
SUMMARY:Speed Week Alaska Raceway Park
DESCRIPTION:This is an Alaska Raceway Park event and I will post more information when I get it.
URL:http://statestreetrodders.com/event/speed-week-alaska-raceway-park/
END:VEVENT
END:VCALENDAR