BEGIN:VCALENDAR
VERSION:2.0
PRODID:-//49th State Street Rodders - ECPv6.15.20//NONSGML v1.0//EN
CALSCALE:GREGORIAN
METHOD:PUBLISH
X-ORIGINAL-URL:http://statestreetrodders.com
X-WR-CALDESC:Events for 49th State Street Rodders
REFRESH-INTERVAL;VALUE=DURATION:PT1H
X-Robots-Tag:noindex
X-PUBLISHED-TTL:PT1H
BEGIN:VTIMEZONE
TZID:America/Anchorage
BEGIN:DAYLIGHT
TZOFFSETFROM:-0900
TZOFFSETTO:-0800
TZNAME:AKDT
DTSTART:20230312T110000
END:DAYLIGHT
BEGIN:STANDARD
TZOFFSETFROM:-0800
TZOFFSETTO:-0900
TZNAME:AKST
DTSTART:20231105T100000
END:STANDARD
BEGIN:DAYLIGHT
TZOFFSETFROM:-0900
TZOFFSETTO:-0800
TZNAME:AKDT
DTSTART:20240310T110000
END:DAYLIGHT
BEGIN:STANDARD
TZOFFSETFROM:-0800
TZOFFSETTO:-0900
TZNAME:AKST
DTSTART:20241103T100000
END:STANDARD
BEGIN:DAYLIGHT
TZOFFSETFROM:-0900
TZOFFSETTO:-0800
TZNAME:AKDT
DTSTART:20250309T110000
END:DAYLIGHT
BEGIN:STANDARD
TZOFFSETFROM:-0800
TZOFFSETTO:-0900
TZNAME:AKST
DTSTART:20251102T100000
END:STANDARD
END:VTIMEZONE
BEGIN:VEVENT
DTSTART;TZID=America/Anchorage:20240608T090000
DTEND;TZID=America/Anchorage:20240608T120000
DTSTAMP:20260423T032901
CREATED:20240121T010512Z
LAST-MODIFIED:20240121T010512Z
UID:2538-1717837200-1717848000@statestreetrodders.com
SUMMARY:Colony Days Parade
DESCRIPTION:Parade is in downtown Palmer.  Line up for parade at 9:30.  10:30 Start off.  This is a city of Palmer event.   \n\n\n\nI will update as it gets closer to the event.
URL:http://statestreetrodders.com/event/colony-days-parade-3/
END:VEVENT
END:VCALENDAR