BEGIN:VCALENDAR
VERSION:2.0
PRODID:-//49th State Street Rodders - ECPv6.15.20//NONSGML v1.0//EN
CALSCALE:GREGORIAN
METHOD:PUBLISH
X-ORIGINAL-URL:http://statestreetrodders.com
X-WR-CALDESC:Events for 49th State Street Rodders
REFRESH-INTERVAL;VALUE=DURATION:PT1H
X-Robots-Tag:noindex
X-PUBLISHED-TTL:PT1H
BEGIN:VTIMEZONE
TZID:America/Anchorage
BEGIN:DAYLIGHT
TZOFFSETFROM:-0900
TZOFFSETTO:-0800
TZNAME:AKDT
DTSTART:20230312T110000
END:DAYLIGHT
BEGIN:STANDARD
TZOFFSETFROM:-0800
TZOFFSETTO:-0900
TZNAME:AKST
DTSTART:20231105T100000
END:STANDARD
BEGIN:DAYLIGHT
TZOFFSETFROM:-0900
TZOFFSETTO:-0800
TZNAME:AKDT
DTSTART:20240310T110000
END:DAYLIGHT
BEGIN:STANDARD
TZOFFSETFROM:-0800
TZOFFSETTO:-0900
TZNAME:AKST
DTSTART:20241103T100000
END:STANDARD
BEGIN:DAYLIGHT
TZOFFSETFROM:-0900
TZOFFSETTO:-0800
TZNAME:AKDT
DTSTART:20250309T110000
END:DAYLIGHT
BEGIN:STANDARD
TZOFFSETFROM:-0800
TZOFFSETTO:-0900
TZNAME:AKST
DTSTART:20251102T100000
END:STANDARD
END:VTIMEZONE
BEGIN:VEVENT
DTSTART;TZID=America/Anchorage:20240601T110000
DTEND;TZID=America/Anchorage:20240601T170000
DTSTAMP:20260423T033346
CREATED:20240120T040110Z
LAST-MODIFIED:20240601T092457Z
UID:2534-1717239600-1717261200@statestreetrodders.com
SUMMARY:Thunder Valley Flag Drag
DESCRIPTION:“THUNDER VALLEY FLAG DRAG” Alaska Raceway Park5599 Raceway\, Palmer. Mile 10.4 \n\n\n\nOld Glenn Hwy. Car set up at 10:00\, 1974 or older.  Show cars free admission. I don’t know for sure what time the car show starts.  This will be a fun day.  There are contest and live music and food trucks as well as a lot of really neat cars.  Dress up like the 50’s and enjoy the fun. \n\n\n\nThis is an Alaska Raceway Park event.
URL:http://statestreetrodders.com/event/thunder-valley-flag-drag-2/
END:VEVENT
END:VCALENDAR